BEGIN:VCALENDAR
VERSION:2.0
METHOD:PUBLISH
PRODID:-//Missouri State University/Calendar of Events//EN
CALSCALE:GREGORIAN
X-WR-TIMEZONE:America/Chicago
BEGIN:VTIMEZONE
TZID:America/Chicago
BEGIN:DAYLIGHT
TZOFFSETFROM:-0600
TZOFFSETTO:-0500
DTSTART:20070311T020000
RRULE:FREQ=YEARLY;BYMONTH=3;BYDAY=2SU
TZNAME:CDT
END:DAYLIGHT
BEGIN:STANDARD
TZOFFSETFROM:-0500
TZOFFSETTO:-0600
DTSTART:20071104T020000
RRULE:FREQ=YEARLY;BYMONTH=11;BYDAY=1SU
TZNAME:CST
END:STANDARD
END:VTIMEZONE
BEGIN:VEVENT
UID:90f646ad-2015-4cea-b652-d113fcfd5d1b.227698@calendar.missouristate.edu
CREATED:20230304T012254Z
LAST-MODIFIED:20230304T012254Z
LOCATION:Plaster Free Enterprise Center\, Robert W.
SUMMARY:Leading Positive Change
DESCRIPTION:Effective leadership is always about creating positive results
 .To be successful\, organizations must have leaders who anticipate needed
  change\, determine what barriers stand in the way of desired change\, an
 d then develop and execute a plan to achieve positive results. This often
  involves establishing a common vision\, overcoming resistance to change 
 and obtaining engagement and commitment from team members.
X-ALT-DESC;FMTTYPE=text/html:&lt;html&gt;&lt;head&gt;&lt;title&gt;&lt;/title&gt;&lt;/head&gt;&lt;body&gt;&lt;p&gt;Ef
 fective leadership is always about creating positive results.&lt;br&gt;&lt;br&gt;To b
 e successful\, organizations must have leaders who anticipate needed chan
 ge\, determine what barriers stand in the way of desired change\, and the
 n develop and execute a plan to achieve positive results. This often invo
 lves establishing a common vision\, overcoming resistance to change and o
 btaining engagement and commitment from team members.&lt;/p&gt;&lt;/body&gt;&lt;/html&gt;
DTSTART;TZID=America/Chicago:20230516T090000
DTEND;TZID=America/Chicago:20230516T160000
SEQUENCE:1
URL:https://efactory.missouristate.edu/training-calendar/
CATEGORIES:Public
END:VEVENT
END:VCALENDAR