BEGIN:VCALENDAR
VERSION:2.0
METHOD:PUBLISH
PRODID:-//Missouri State University/Calendar of Events//EN
CALSCALE:GREGORIAN
X-WR-TIMEZONE:America/Chicago
BEGIN:VTIMEZONE
TZID:America/Chicago
BEGIN:DAYLIGHT
TZOFFSETFROM:-0600
TZOFFSETTO:-0500
DTSTART:20070311T020000
RRULE:FREQ=YEARLY;BYMONTH=3;BYDAY=2SU
TZNAME:CDT
END:DAYLIGHT
BEGIN:STANDARD
TZOFFSETFROM:-0500
TZOFFSETTO:-0600
DTSTART:20071104T020000
RRULE:FREQ=YEARLY;BYMONTH=11;BYDAY=1SU
TZNAME:CST
END:STANDARD
END:VTIMEZONE
BEGIN:VEVENT
UID:00000000-0000-0000-0000-000000000000.227699@calendar.missouristate.edu
CREATED:20230223T154512Z
LAST-MODIFIED:20230223T154512Z
LOCATION:To Be Determined
SUMMARY:MSU Legislative Advocacy Events
DESCRIPTION:Find out how you can\nbe personally involved in the political 
 process at Missouri State University. Join\nPresident Clif Smart and Miss
 ouri State University leaders in Jefferson City on March 28 for a legisla
 tive reception and March 29th for Legislative Day.
X-ALT-DESC;FMTTYPE=text/html:&lt;html&gt;&lt;head&gt;&lt;title&gt;&lt;/title&gt;&lt;/head&gt;&lt;body&gt;&lt;p&gt;Fi
 nd out how you can\nbe personally involved in the political process at Mi
 ssouri State University. Join\nPresident Clif Smart and Missouri State Un
 iversity leaders in Jefferson City on March 28 for a legislative receptio
 n and March 29th for Legislative Day.&lt;/p&gt;&lt;/body&gt;&lt;/html&gt;
DTSTART;TZID=America/Chicago:20230328T180000
DTEND;TZID=America/Chicago:20230328T193000
SEQUENCE:0
URL:https://missouristate.imodules.com?sid=1691&amp;gid=2&amp;pgid=3048&amp;cid=5340&amp;e
 cid=5340&amp;ciid=17961&amp;crid=0
CATEGORIES:Public,Alumni,Parents and Family,Visitors
END:VEVENT
END:VCALENDAR