BEGIN:VCALENDAR
VERSION:2.0
METHOD:PUBLISH
PRODID:-//Missouri State University/Calendar of Events//EN
CALSCALE:GREGORIAN
X-WR-TIMEZONE:America/Chicago
BEGIN:VTIMEZONE
TZID:America/Chicago
BEGIN:DAYLIGHT
TZOFFSETFROM:-0600
TZOFFSETTO:-0500
DTSTART:20070311T020000
RRULE:FREQ=YEARLY;BYMONTH=3;BYDAY=2SU
TZNAME:CDT
END:DAYLIGHT
BEGIN:STANDARD
TZOFFSETFROM:-0500
TZOFFSETTO:-0600
DTSTART:20071104T020000
RRULE:FREQ=YEARLY;BYMONTH=11;BYDAY=1SU
TZNAME:CST
END:STANDARD
END:VTIMEZONE
BEGIN:VEVENT
UID:00ad765e-7ba7-4922-854d-76587b995716.227701@calendar.missouristate.edu
CREATED:20230223T205023Z
LAST-MODIFIED:20230223T205023Z
LOCATION:
SUMMARY:Linguistics Colloquium: Presentation by Dr. Wafaa Kaf: Hypersensit
 ivity to Sounds: A Common Symptom for Many Disorders
DESCRIPTION:Hypersensitivity to sounds or the so-called Hyperacusis is whe
 n everyday sounds are intolerable\, with the perception of being too loud
 \, annoying or even painful. Intolerance to sounds is a common trait in i
 ndividuals with tinnitus (ear ringing)\, auditory processing disorders\, 
 ASD\, ADHD and migraine. In my lab\, we have studied hyperacusis in human
 s and preclinical animal models to assess the involvement of the auditory
  system.
X-ALT-DESC;FMTTYPE=text/html:&lt;html&gt;&lt;head&gt;&lt;title&gt;&lt;/title&gt;&lt;/head&gt;&lt;body&gt;&lt;p&gt;&lt;s
 pan&gt;Hypersensitivity to sounds or the so-called Hyperacusis is when every
 day sounds are intolerable\, with the perception of being too loud\, anno
 ying or even painful. Intolerance to sounds is a common trait in individu
 als with tinnitus (ear ringing)\, auditory processing disorders\, ASD\, A
 DHD and migraine. In my lab\, we have studied hyperacusis in humans and p
 reclinical animal models to assess the involvement of the auditory system
 .&lt;/span&gt;&lt;/p&gt;&lt;/body&gt;&lt;/html&gt;
DTSTART;TZID=America/Chicago:20230427T120000
DTEND;TZID=America/Chicago:20230427T130000
SEQUENCE:1
URL:https://blogs.missouristate.edu/wlc/2022/09/06/linguistics-colloquia-f
 all-2022-series/
CATEGORIES:Public,Alumni,Current Students,Faculty,Future Students,Staff
END:VEVENT
END:VCALENDAR