BEGIN:VCALENDAR
VERSION:2.0
METHOD:PUBLISH
PRODID:-//Missouri State University/Calendar of Events//EN
CALSCALE:GREGORIAN
X-WR-TIMEZONE:America/Chicago
BEGIN:VTIMEZONE
TZID:America/Chicago
BEGIN:DAYLIGHT
TZOFFSETFROM:-0600
TZOFFSETTO:-0500
DTSTART:20070311T020000
RRULE:FREQ=YEARLY;BYMONTH=3;BYDAY=2SU
TZNAME:CDT
END:DAYLIGHT
BEGIN:STANDARD
TZOFFSETFROM:-0500
TZOFFSETTO:-0600
DTSTART:20071104T020000
RRULE:FREQ=YEARLY;BYMONTH=11;BYDAY=1SU
TZNAME:CST
END:STANDARD
END:VTIMEZONE
BEGIN:VEVENT
UID:3b0cab97-7027-4a2a-b5b2-25f2f72b59fc.227716@calendar.missouristate.edu
CREATED:20230227T222133Z
LAST-MODIFIED:20230227T222133Z
LOCATION:Plaster Student Union\, Robert W. 313
SUMMARY:Strong Lecture Series: "20 Years Since the Iraq War"
DESCRIPTION:A talk on Iraq 20 years since the Iraq War\, presented by the 
 head representative to the U.S. of the Kurdistan Regional Government of I
 raq.
X-ALT-DESC;FMTTYPE=text/html:&lt;html&gt;&lt;head&gt;&lt;title&gt;&lt;/title&gt;&lt;/head&gt;&lt;body&gt;&lt;p&gt;A 
 talk on Iraq 20 years since the Iraq War\, presented by the head represen
 tative to the U.S. of the Kurdistan Regional Government of Iraq.&lt;/p&gt;&lt;/bod
 y&gt;&lt;/html&gt;
DTSTART;TZID=America/Chicago:20230302T100000
DTEND;TZID=America/Chicago:20230302T110000
SEQUENCE:1
URL:
CATEGORIES:Public,Alumni,Current Students,Faculty,Future Students,Staff
END:VEVENT
END:VCALENDAR