BEGIN:VCALENDAR
VERSION:2.0
METHOD:PUBLISH
PRODID:-//Missouri State University/Calendar of Events//EN
CALSCALE:GREGORIAN
X-WR-TIMEZONE:America/Chicago
BEGIN:VTIMEZONE
TZID:America/Chicago
BEGIN:DAYLIGHT
TZOFFSETFROM:-0600
TZOFFSETTO:-0500
DTSTART:20070311T020000
RRULE:FREQ=YEARLY;BYMONTH=3;BYDAY=2SU
TZNAME:CDT
END:DAYLIGHT
BEGIN:STANDARD
TZOFFSETFROM:-0500
TZOFFSETTO:-0600
DTSTART:20071104T020000
RRULE:FREQ=YEARLY;BYMONTH=11;BYDAY=1SU
TZNAME:CST
END:STANDARD
END:VTIMEZONE
BEGIN:VEVENT
UID:a0adf990-6a05-4a1c-9320-eb23407a412b.227717@calendar.missouristate.edu
CREATED:20230228T201917Z
LAST-MODIFIED:20230228T201917Z
LOCATION:Plaster Student Union\, Robert W. Theater
SUMMARY:Don't Worry Darling
DESCRIPTION:Join the SAC in enjoying the blockbuster movie\, Don't Worry D
 arling! \n\n\nFree Subway provided\, along with an opportunity to win in 
 a prize drawing.
X-ALT-DESC;FMTTYPE=text/html:&lt;html&gt;&lt;head&gt;&lt;title&gt;&lt;/title&gt;&lt;/head&gt;&lt;body&gt;&lt;p&gt;&lt;s
 pan&gt;Join the SAC in enjoying the blockbuster movie\, Don't Worry Darling!
  &lt;/span&gt;&lt;/p&gt;\n&lt;p&gt;&lt;span&gt;Free Subway provided\, along with an opportunity t
 o win in a prize drawing.&lt;/span&gt;&lt;/p&gt;&lt;/body&gt;&lt;/html&gt;
DTSTART;TZID=America/Chicago:20230322T180000
DTEND;TZID=America/Chicago:20230322T200500
SEQUENCE:1
URL:
CATEGORIES:Current Students,Faculty,Staff
END:VEVENT
END:VCALENDAR