BEGIN:VCALENDAR
VERSION:2.0
METHOD:PUBLISH
PRODID:-//Missouri State University/Calendar of Events//EN
CALSCALE:GREGORIAN
X-WR-TIMEZONE:America/Chicago
BEGIN:VTIMEZONE
TZID:America/Chicago
BEGIN:DAYLIGHT
TZOFFSETFROM:-0600
TZOFFSETTO:-0500
DTSTART:20070311T020000
RRULE:FREQ=YEARLY;BYMONTH=3;BYDAY=2SU
TZNAME:CDT
END:DAYLIGHT
BEGIN:STANDARD
TZOFFSETFROM:-0500
TZOFFSETTO:-0600
DTSTART:20071104T020000
RRULE:FREQ=YEARLY;BYMONTH=11;BYDAY=1SU
TZNAME:CST
END:STANDARD
END:VTIMEZONE
BEGIN:VEVENT
UID:8512015c-7e0a-4ecb-bbbf-5d11a7dfda9c.227753@calendar.missouristate.edu
CREATED:20230301T135048Z
LAST-MODIFIED:20230301T135048Z
LOCATION:Recreation Center\, Bill R. Foster and Family Online
SUMMARY:Pickle Ball Registration Begins
DESCRIPTION:Open League with a minimum roster of 1.\n\n\nRegistration ends
  March 27th.\n\n\nPlay begins April 4th at the Bobby and Allison Courts i
 n Foster Recreation Center. 
X-ALT-DESC;FMTTYPE=text/html:&lt;html&gt;&lt;head&gt;&lt;title&gt;&lt;/title&gt;&lt;/head&gt;&lt;body&gt;&lt;p&gt;Op
 en League with a minimum roster of 1.&lt;/p&gt;\n&lt;p&gt;Registration ends March 27t
 h.&lt;/p&gt;\n&lt;p&gt;Play begins April 4th at the Bobby and Allison Courts in Foste
 r Recreation Center.&amp;nbsp\;&lt;/p&gt;&lt;/body&gt;&lt;/html&gt;
DTSTART;VALUE=DATE:20230301
DTEND;VALUE=DATE:20230302
SEQUENCE:0
URL:http://IMLeagues.com/mostate
CATEGORIES:Alumni,Current Students,Faculty,Staff
END:VEVENT
END:VCALENDAR