BEGIN:VCALENDAR
VERSION:2.0
METHOD:PUBLISH
PRODID:-//Missouri State University/Calendar of Events//EN
CALSCALE:GREGORIAN
X-WR-TIMEZONE:America/Chicago
BEGIN:VTIMEZONE
TZID:America/Chicago
BEGIN:DAYLIGHT
TZOFFSETFROM:-0600
TZOFFSETTO:-0500
DTSTART:20070311T020000
RRULE:FREQ=YEARLY;BYMONTH=3;BYDAY=2SU
TZNAME:CDT
END:DAYLIGHT
BEGIN:STANDARD
TZOFFSETFROM:-0500
TZOFFSETTO:-0600
DTSTART:20071104T020000
RRULE:FREQ=YEARLY;BYMONTH=11;BYDAY=1SU
TZNAME:CST
END:STANDARD
END:VTIMEZONE
BEGIN:VEVENT
UID:117019bc-2669-4f0d-9775-d63f05b6259b.227754@calendar.missouristate.edu
CREATED:20230301T181452Z
LAST-MODIFIED:20230301T181452Z
LOCATION:Plaster Student Union\, Robert W. Ballroom (Room 300)
SUMMARY:Majors Fair 2023
DESCRIPTION:Join us to\n\n\n\nExplore Major\, Minor and Certificate offeri
 ngs\nMeet with departmental representatives from all across campus\nLearn
  about opportunities for career exploration\, internships and advanced st
 udy\nFind answers to questions about educational pathways\n\nOpen to all 
 students\, advisors\, faculty\, and staff.
X-ALT-DESC;FMTTYPE=text/html:&lt;html&gt;&lt;head&gt;&lt;title&gt;&lt;/title&gt;&lt;/head&gt;&lt;body&gt;&lt;p&gt;Jo
 in us to&lt;/p&gt;\n&lt;ul&gt;\n&lt;li&gt;Explore Major\, Minor and Certificate offerings&lt;/
 li&gt;\n&lt;li&gt;Meet with departmental representatives from all across campus&lt;/l
 i&gt;\n&lt;li&gt;Learn about opportunities for career exploration\, internships an
 d advanced study&lt;/li&gt;\n&lt;li&gt;Find answers to questions about educational pa
 thways&lt;/li&gt;\n&lt;/ul&gt;\n&lt;p&gt;&lt;strong&gt;Open to all students\, advisors\, faculty\
 , and staff.&lt;/strong&gt;&lt;/p&gt;&lt;/body&gt;&lt;/html&gt;
DTSTART;TZID=America/Chicago:20230914T090000
DTEND;TZID=America/Chicago:20230914T150000
SEQUENCE:0
URL:https://www.missouristate.edu/Advising/majors-fair.htm
CATEGORIES:Current Students,Faculty,Future Students,Staff
END:VEVENT
END:VCALENDAR