BEGIN:VCALENDAR
VERSION:2.0
METHOD:PUBLISH
PRODID:-//Missouri State University/Calendar of Events//EN
CALSCALE:GREGORIAN
X-WR-TIMEZONE:America/Chicago
BEGIN:VTIMEZONE
TZID:America/Chicago
BEGIN:DAYLIGHT
TZOFFSETFROM:-0600
TZOFFSETTO:-0500
DTSTART:20070311T020000
RRULE:FREQ=YEARLY;BYMONTH=3;BYDAY=2SU
TZNAME:CDT
END:DAYLIGHT
BEGIN:STANDARD
TZOFFSETFROM:-0500
TZOFFSETTO:-0600
DTSTART:20071104T020000
RRULE:FREQ=YEARLY;BYMONTH=11;BYDAY=1SU
TZNAME:CST
END:STANDARD
END:VTIMEZONE
BEGIN:VEVENT
UID:4f18f76d-06c4-4cb4-99e5-8820aab81018.227756@calendar.missouristate.edu
CREATED:20230301T202409Z
LAST-MODIFIED:20230301T202409Z
LOCATION:Plaster Student Union\, Robert W. Theater
SUMMARY:Drag Queen Bingo 
DESCRIPTION:Enjoy bingo and drag queen performances with SAC. Free food an
 d a chance to win Airpod Max's\, a 40" Roku TV and more!
X-ALT-DESC;FMTTYPE=text/html:&lt;html&gt;&lt;head&gt;&lt;title&gt;&lt;/title&gt;&lt;/head&gt;&lt;body&gt;&lt;p&gt;&lt;s
 pan&gt;Enjoy bingo and drag queen performances with SAC. Free food and a cha
 nce to win Airpod Max's\, a 40" Roku TV and more!&lt;/span&gt;&lt;/p&gt;&lt;/body&gt;&lt;/html&gt;
DTSTART;TZID=America/Chicago:20230323T190000
DTEND;TZID=America/Chicago:20230323T220000
SEQUENCE:0
URL:
CATEGORIES:Current Students,Faculty,Staff
END:VEVENT
END:VCALENDAR