BEGIN:VCALENDAR
VERSION:2.0
METHOD:PUBLISH
PRODID:-//Missouri State University/Calendar of Events//EN
CALSCALE:GREGORIAN
X-WR-TIMEZONE:America/Chicago
BEGIN:VTIMEZONE
TZID:America/Chicago
BEGIN:DAYLIGHT
TZOFFSETFROM:-0600
TZOFFSETTO:-0500
DTSTART:20070311T020000
RRULE:FREQ=YEARLY;BYMONTH=3;BYDAY=2SU
TZNAME:CDT
END:DAYLIGHT
BEGIN:STANDARD
TZOFFSETFROM:-0500
TZOFFSETTO:-0600
DTSTART:20071104T020000
RRULE:FREQ=YEARLY;BYMONTH=11;BYDAY=1SU
TZNAME:CST
END:STANDARD
END:VTIMEZONE
BEGIN:VEVENT
UID:22d5697a-15f7-496e-bf7f-781f3f0b9426.227762@calendar.missouristate.edu
CREATED:20230302T164531Z
LAST-MODIFIED:20230302T164531Z
LOCATION:Plaster Student Union\, Robert W. Theater
SUMMARY:Mean Girls 
DESCRIPTION:Watch this 2000s film with SAC! Free food and a drawing for pr
 izes. Don't forget to wear pinkl!
X-ALT-DESC;FMTTYPE=text/html:&lt;html&gt;&lt;head&gt;&lt;title&gt;&lt;/title&gt;&lt;/head&gt;&lt;body&gt;&lt;p&gt;Wa
 tch this 2000s film with SAC! Free food and a drawing for prizes. Don't f
 orget to wear pinkl!&lt;/p&gt;&lt;/body&gt;&lt;/html&gt;
DTSTART;TZID=America/Chicago:20230329T180000
DTEND;TZID=America/Chicago:20230329T200000
SEQUENCE:0
URL:https://calendar.missouristate.edu/viewevent.aspx?eventid=119306&amp;occur
 renceid=227762
CATEGORIES:Current Students,Faculty,Staff
END:VEVENT
END:VCALENDAR