BEGIN:VCALENDAR
VERSION:2.0
METHOD:PUBLISH
PRODID:-//Missouri State University/Calendar of Events//EN
CALSCALE:GREGORIAN
X-WR-TIMEZONE:America/Chicago
BEGIN:VTIMEZONE
TZID:America/Chicago
BEGIN:DAYLIGHT
TZOFFSETFROM:-0600
TZOFFSETTO:-0500
DTSTART:20070311T020000
RRULE:FREQ=YEARLY;BYMONTH=3;BYDAY=2SU
TZNAME:CDT
END:DAYLIGHT
BEGIN:STANDARD
TZOFFSETFROM:-0500
TZOFFSETTO:-0600
DTSTART:20071104T020000
RRULE:FREQ=YEARLY;BYMONTH=11;BYDAY=1SU
TZNAME:CST
END:STANDARD
END:VTIMEZONE
BEGIN:VEVENT
UID:3225bb52-b24a-4952-a6b3-77d69ceea263.227763@calendar.missouristate.edu
CREATED:20230316T202839Z
LAST-MODIFIED:20230316T202839Z
LOCATION:Plaster Student Union\, Robert W. 317
SUMMARY:Phi Kappa Phi Induction Ceremony
DESCRIPTION:The Honor Society of Phi Kappa Phi will induct new members at 
 our annual ceremony:\n\n\n\n\n\n4:30 PM\n\n\nThursday\, April 20\, 2023\n
 \n\nPSU Room 317\n\n\nDoors open at 4:00 PM
X-ALT-DESC;FMTTYPE=text/html:&lt;html&gt;&lt;head&gt;&lt;title&gt;&lt;/title&gt;&lt;/head&gt;&lt;body&gt;&lt;p&gt;Th
 e &lt;a href="https://www.missouristate.edu/Honors/PhiKappaPhi.htm"&gt;Honor So
 ciety of Phi Kappa Phi &lt;/a&gt;will induct new members at our annual ceremony
 :&lt;/p&gt;\n&lt;p&gt;&lt;/p&gt;\n&lt;p&gt;4:30 PM&lt;/p&gt;\n&lt;p&gt;Thursday\, April 20\, 2023&lt;/p&gt;\n&lt;p&gt;PSU
  Room 317&lt;/p&gt;\n&lt;p&gt;Doors open at 4:00 PM&lt;/p&gt;&lt;/body&gt;&lt;/html&gt;
DTSTART;TZID=America/Chicago:20230420T163000
DTEND;TZID=America/Chicago:20230420T173000
SEQUENCE:0
URL:https://www.missouristate.edu/Honors/PhiKappaPhi.htm
CATEGORIES:Public,Current Students,Faculty,Staff
END:VEVENT
END:VCALENDAR