BEGIN:VCALENDAR
VERSION:2.0
METHOD:PUBLISH
PRODID:-//Missouri State University/Calendar of Events//EN
CALSCALE:GREGORIAN
X-WR-TIMEZONE:America/Chicago
BEGIN:VTIMEZONE
TZID:America/Chicago
BEGIN:DAYLIGHT
TZOFFSETFROM:-0600
TZOFFSETTO:-0500
DTSTART:20070311T020000
RRULE:FREQ=YEARLY;BYMONTH=3;BYDAY=2SU
TZNAME:CDT
END:DAYLIGHT
BEGIN:STANDARD
TZOFFSETFROM:-0500
TZOFFSETTO:-0600
DTSTART:20071104T020000
RRULE:FREQ=YEARLY;BYMONTH=11;BYDAY=1SU
TZNAME:CST
END:STANDARD
END:VTIMEZONE
BEGIN:VEVENT
UID:0a891313-f675-4dd8-a501-fe1bb8a0224b.227766@calendar.missouristate.edu
CREATED:20230310T162040Z
LAST-MODIFIED:20230310T162040Z
LOCATION:Plaster Student Union\, Robert W.
SUMMARY:Spring Showcase
DESCRIPTION:During Showcase\, you're invited to:\n\n\n\n\n\n\nMeet the fac
 ulty who represent more than 170 academic majors and programs\nLearn abou
 t the admission process\, financial aid and scholarships\nSee yourself at
  Missouri State by taking a campus tour\nGet the Missouri State story as 
 can only be told by our students
X-ALT-DESC;FMTTYPE=text/html:&lt;html&gt;&lt;head&gt;&lt;title&gt;&lt;/title&gt;&lt;/head&gt;&lt;body&gt;&lt;p&gt;&lt;s
 trong&gt;During Showcase\, you're invited to:&lt;/strong&gt;&lt;/p&gt;\n&lt;div&gt;\n&lt;div&gt;\n&lt;d
 iv&gt;\n&lt;ul&gt;\n&lt;li&gt;Meet the faculty who represent more than 170 academic majo
 rs and programs&lt;/li&gt;\n&lt;li&gt;Learn about the admission process\, financial a
 id and scholarships&lt;/li&gt;\n&lt;li&gt;See yourself at Missouri State by taking a 
 campus tour&lt;/li&gt;\n&lt;li&gt;Get the Missouri State story as can only be told by
  our students&lt;/li&gt;\n&lt;/ul&gt;\n&lt;/div&gt;\n&lt;/div&gt;\n&lt;/div&gt;&lt;/body&gt;&lt;/html&gt;
DTSTART;TZID=America/Chicago:20230401T090000
DTEND;TZID=America/Chicago:20230401T150000
SEQUENCE:0
URL:http://missouristate.edu/showcase
CATEGORIES:Future Students
END:VEVENT
END:VCALENDAR