BEGIN:VCALENDAR
VERSION:2.0
METHOD:PUBLISH
PRODID:-//Missouri State University/Calendar of Events//EN
CALSCALE:GREGORIAN
X-WR-TIMEZONE:America/Chicago
BEGIN:VTIMEZONE
TZID:America/Chicago
BEGIN:DAYLIGHT
TZOFFSETFROM:-0600
TZOFFSETTO:-0500
DTSTART:20070311T020000
RRULE:FREQ=YEARLY;BYMONTH=3;BYDAY=2SU
TZNAME:CDT
END:DAYLIGHT
BEGIN:STANDARD
TZOFFSETFROM:-0500
TZOFFSETTO:-0600
DTSTART:20071104T020000
RRULE:FREQ=YEARLY;BYMONTH=11;BYDAY=1SU
TZNAME:CST
END:STANDARD
END:VTIMEZONE
BEGIN:VEVENT
UID:aa59593d-f65b-439f-8a40-d3804faa7ca2.227792@calendar.missouristate.edu
CREATED:20230307T170554Z
LAST-MODIFIED:20230307T170554Z
LOCATION:Plaster Student Union\, Robert W. Ballroom
SUMMARY:Student Employee of the Year Reception
DESCRIPTION:Student Employee of the Year Nominees will be honored at a rec
 eption where the MSU Student Employee of the Year will be announced.  Inv
 ite only.
X-ALT-DESC;FMTTYPE=text/html:&lt;html&gt;&lt;head&gt;&lt;title&gt;&lt;/title&gt;&lt;/head&gt;&lt;body&gt;&lt;p&gt;St
 udent Employee of the Year Nominees will be honored at a reception where 
 the MSU Student Employee of the Year will be announced.&amp;nbsp\; Invite onl
 y.&lt;/p&gt;&lt;/body&gt;&lt;/html&gt;
DTSTART;TZID=America/Chicago:20230419T140000
DTEND;TZID=America/Chicago:20230419T150000
SEQUENCE:0
URL:https://www.missouristate.edu/StudentEmp/national-student-employment-w
 eek.htm
CATEGORIES:Public,Alumni,Current Students,Faculty,Staff
END:VEVENT
END:VCALENDAR