BEGIN:VCALENDAR
VERSION:2.0
METHOD:PUBLISH
PRODID:-//Missouri State University/Calendar of Events//EN
CALSCALE:GREGORIAN
X-WR-TIMEZONE:America/Chicago
BEGIN:VTIMEZONE
TZID:America/Chicago
BEGIN:DAYLIGHT
TZOFFSETFROM:-0600
TZOFFSETTO:-0500
DTSTART:20070311T020000
RRULE:FREQ=YEARLY;BYMONTH=3;BYDAY=2SU
TZNAME:CDT
END:DAYLIGHT
BEGIN:STANDARD
TZOFFSETFROM:-0500
TZOFFSETTO:-0600
DTSTART:20071104T020000
RRULE:FREQ=YEARLY;BYMONTH=11;BYDAY=1SU
TZNAME:CST
END:STANDARD
END:VTIMEZONE
BEGIN:VEVENT
UID:a73e500a-0240-48f2-8e1a-992686bbb6b5.227810@calendar.missouristate.edu
CREATED:20230310T162651Z
LAST-MODIFIED:20230310T162651Z
LOCATION:Ellis Hall C. Minor Recital Hall - Ellis 220
SUMMARY:Trombone Student Recital
DESCRIPTION:The MSU Music Department invites you to join us for the senior
  recital of trombone student\, Wyatt King.\n\n\nFor more information\, pl
 ease communicate with the event contact.
X-ALT-DESC;FMTTYPE=text/html:&lt;html&gt;&lt;head&gt;&lt;title&gt;&lt;/title&gt;&lt;/head&gt;&lt;body&gt;&lt;p&gt;&lt;s
 pan dir="ltr"&gt;The MSU Music Department invites you to join us for the sen
 ior recital of trombone student\, Wyatt King.&lt;/span&gt;&lt;/p&gt;\n&lt;p&gt;&lt;span dir="l
 tr"&gt;For more information\, please communicate with the event contact.&lt;/sp
 an&gt;&lt;/p&gt;&lt;/body&gt;&lt;/html&gt;
DTSTART;TZID=America/Chicago:20230404T173000
DTEND;TZID=America/Chicago:20230404T183000
SEQUENCE:0
URL:
CATEGORIES:Public,Alumni,Current Students,Faculty,Future Students,Staff
END:VEVENT
END:VCALENDAR