BEGIN:VCALENDAR
VERSION:2.0
METHOD:PUBLISH
PRODID:-//Missouri State University/Calendar of Events//EN
CALSCALE:GREGORIAN
X-WR-TIMEZONE:America/Chicago
BEGIN:VTIMEZONE
TZID:America/Chicago
BEGIN:DAYLIGHT
TZOFFSETFROM:-0600
TZOFFSETTO:-0500
DTSTART:20070311T020000
RRULE:FREQ=YEARLY;BYMONTH=3;BYDAY=2SU
TZNAME:CDT
END:DAYLIGHT
BEGIN:STANDARD
TZOFFSETFROM:-0500
TZOFFSETTO:-0600
DTSTART:20071104T020000
RRULE:FREQ=YEARLY;BYMONTH=11;BYDAY=1SU
TZNAME:CST
END:STANDARD
END:VTIMEZONE
BEGIN:VEVENT
UID:8c0cbeb9-5e02-4569-b0de-5708cb87998d.227841@calendar.missouristate.edu
CREATED:20230308T153317Z
LAST-MODIFIED:20230308T153317Z
LOCATION:Ellis Hall C. Minor Recital Hall - Ellis 220
SUMMARY:Collegiate Singers Concert
DESCRIPTION:The MSU Music Department invites you to join us for the Colleg
 iate Singers concert.\n\n\nFor more information\, please communicate with
  the event contact.
X-ALT-DESC;FMTTYPE=text/html:&lt;html&gt;&lt;head&gt;&lt;title&gt;&lt;/title&gt;&lt;/head&gt;&lt;body&gt;&lt;p&gt;Th
 e MSU Music Department invites you to join us for the Collegiate Singers 
 concert.&lt;/p&gt;\n&lt;p&gt;For more information\, please communicate with the event
  contact.&lt;/p&gt;&lt;/body&gt;&lt;/html&gt;
DTSTART;TZID=America/Chicago:20230509T193000
DTEND;TZID=America/Chicago:20230509T203000
SEQUENCE:0
URL:
CATEGORIES:Public,Alumni,Current Students,Faculty,Future Students,Staff
END:VEVENT
END:VCALENDAR