BEGIN:VCALENDAR
VERSION:2.0
METHOD:PUBLISH
PRODID:-//Missouri State University/Calendar of Events//EN
CALSCALE:GREGORIAN
X-WR-TIMEZONE:America/Chicago
BEGIN:VTIMEZONE
TZID:America/Chicago
BEGIN:DAYLIGHT
TZOFFSETFROM:-0600
TZOFFSETTO:-0500
DTSTART:20070311T020000
RRULE:FREQ=YEARLY;BYMONTH=3;BYDAY=2SU
TZNAME:CDT
END:DAYLIGHT
BEGIN:STANDARD
TZOFFSETFROM:-0500
TZOFFSETTO:-0600
DTSTART:20071104T020000
RRULE:FREQ=YEARLY;BYMONTH=11;BYDAY=1SU
TZNAME:CST
END:STANDARD
END:VTIMEZONE
BEGIN:VEVENT
UID:0a12d157-05e5-4284-b9a9-67da13e8373d.227863@calendar.missouristate.edu
CREATED:20230309T061510Z
LAST-MODIFIED:20230309T061510Z
LOCATION:Fayetteville\, Ark.
SUMMARY:Missouri State University Men's Golf at Blessings Medal Match
DESCRIPTION:Missouri State University Men's Golf visits Blessings Medal Ma
 tch
X-ALT-DESC;FMTTYPE=text/html:&lt;html&gt;&lt;head&gt;&lt;title&gt;&lt;/title&gt;&lt;/head&gt;&lt;body&gt;Misso
 uri State University Men's Golf visits Blessings Medal Match&lt;/body&gt;&lt;/html&gt;
DTSTART;TZID=America/Chicago:20230403T080000
DTEND;TZID=America/Chicago:20230403T110000
SEQUENCE:1
URL:http://missouristatebears.com/index.aspx?path=mgolf
CATEGORIES:Current Students,Future Students,Parents and Family,Alumni,
 Faculty,Staff,Community,Visitors,Athletics
END:VEVENT
END:VCALENDAR