BEGIN:VCALENDAR
VERSION:2.0
METHOD:PUBLISH
PRODID:-//Missouri State University/Calendar of Events//EN
CALSCALE:GREGORIAN
X-WR-TIMEZONE:America/Chicago
BEGIN:VTIMEZONE
TZID:America/Chicago
BEGIN:DAYLIGHT
TZOFFSETFROM:-0600
TZOFFSETTO:-0500
DTSTART:20070311T020000
RRULE:FREQ=YEARLY;BYMONTH=3;BYDAY=2SU
TZNAME:CDT
END:DAYLIGHT
BEGIN:STANDARD
TZOFFSETFROM:-0500
TZOFFSETTO:-0600
DTSTART:20071104T020000
RRULE:FREQ=YEARLY;BYMONTH=11;BYDAY=1SU
TZNAME:CST
END:STANDARD
END:VTIMEZONE
BEGIN:VEVENT
UID:00000000-0000-0000-0000-000000000000.227864@calendar.missouristate.edu
CREATED:20230309T194601Z
LAST-MODIFIED:20230309T194601Z
LOCATION:To Be Determined
SUMMARY:Kansas City Alumni Chapter Comets Game
DESCRIPTION:Gather with fellow Bear fans in the Kansas City area at the fo
 r the Comets Game as they take on the Harrisburg Heat!\n\n\n 
X-ALT-DESC;FMTTYPE=text/html:&lt;html&gt;&lt;head&gt;&lt;title&gt;&lt;/title&gt;&lt;/head&gt;&lt;body&gt;&lt;p&gt;Ga
 ther with fellow Bear fans in the Kansas City area at the for the Comets 
 Game as they take on the Harrisburg Heat!&lt;/p&gt;\n&lt;p&gt;&amp;nbsp\;&lt;/p&gt;&lt;/body&gt;&lt;/htm
 l&gt;
DTSTART;TZID=America/Chicago:20230326T160000
DTEND;TZID=America/Chicago:20230326T180000
SEQUENCE:0
URL:https://missouristate.imodules.com?sid=1691&amp;gid=2&amp;pgid=3066&amp;cid=5364&amp;e
 cid=5364&amp;ciid=17964&amp;crid=0
CATEGORIES:Public,Alumni,Parents and Family,Visitors
END:VEVENT
END:VCALENDAR