BEGIN:VCALENDAR
VERSION:2.0
METHOD:PUBLISH
PRODID:-//Missouri State University/Calendar of Events//EN
CALSCALE:GREGORIAN
X-WR-TIMEZONE:America/Chicago
BEGIN:VTIMEZONE
TZID:America/Chicago
BEGIN:DAYLIGHT
TZOFFSETFROM:-0600
TZOFFSETTO:-0500
DTSTART:20070311T020000
RRULE:FREQ=YEARLY;BYMONTH=3;BYDAY=2SU
TZNAME:CDT
END:DAYLIGHT
BEGIN:STANDARD
TZOFFSETFROM:-0500
TZOFFSETTO:-0600
DTSTART:20071104T020000
RRULE:FREQ=YEARLY;BYMONTH=11;BYDAY=1SU
TZNAME:CST
END:STANDARD
END:VTIMEZONE
BEGIN:VEVENT
UID:59e68aa5-7d4b-4bfd-904f-f282ad0d3568.227865@calendar.missouristate.edu
CREATED:20230310T185128Z
LAST-MODIFIED:20230310T185128Z
LOCATION:Plaster Student Union\, Robert W. 308
SUMMARY:Education Abroad Faculty Luncheon
DESCRIPTION:Join experienced Education Abroad faculty directors to learn a
 bout developing one- to eight-week programs. Topics include logistics and
  budgeting\, research opportunities\, cultural awareness\, going "off the
  grid\," enriching academic content\, and Peace Corps Prep. Learn about t
 he exciting possibilities that Education Abroad holds for you and your st
 udents! RSVP by April 7 to educationabroad@missouristate.edu or 836-6368.
X-ALT-DESC;FMTTYPE=text/html:&lt;html&gt;&lt;head&gt;&lt;title&gt;&lt;/title&gt;&lt;/head&gt;&lt;body&gt;&lt;p&gt;Jo
 in experienced Education Abroad faculty directors to learn about developi
 ng one- to eight-week programs. Topics include logistics and budgeting\, 
 research opportunities\, cultural awareness\, going "off the grid\," enri
 ching academic content\, and Peace Corps Prep. Learn about the exciting p
 ossibilities that Education Abroad holds for you and your students! RSVP 
 by April 7 to educationabroad@missouristate.edu or 836-6368.&lt;/p&gt;&lt;/body&gt;&lt;/
 html&gt;
DTSTART;TZID=America/Chicago:20230412T123000
DTEND;TZID=America/Chicago:20230412T140000
SEQUENCE:0
URL:https://international.missouristate.edu/educationabroad/
CATEGORIES:Faculty
END:VEVENT
END:VCALENDAR