BEGIN:VCALENDAR
VERSION:2.0
METHOD:PUBLISH
PRODID:-//Missouri State University/Calendar of Events//EN
CALSCALE:GREGORIAN
X-WR-TIMEZONE:America/Chicago
BEGIN:VTIMEZONE
TZID:America/Chicago
BEGIN:DAYLIGHT
TZOFFSETFROM:-0600
TZOFFSETTO:-0500
DTSTART:20070311T020000
RRULE:FREQ=YEARLY;BYMONTH=3;BYDAY=2SU
TZNAME:CDT
END:DAYLIGHT
BEGIN:STANDARD
TZOFFSETFROM:-0500
TZOFFSETTO:-0600
DTSTART:20071104T020000
RRULE:FREQ=YEARLY;BYMONTH=11;BYDAY=1SU
TZNAME:CST
END:STANDARD
END:VTIMEZONE
BEGIN:VEVENT
UID:2674ebbf-b8f8-4298-8378-af8f80c82695.227866@calendar.missouristate.edu
CREATED:20230324T184925Z
LAST-MODIFIED:20230324T184925Z
LOCATION:Plaster Student Union\, Robert W. 317
SUMMARY:Rhonda Lesley Retirement Party
DESCRIPTION:Join Student Affairs in wishing Rhonda Lesley (director of the
  Counseling Center) well as she retires from higher education and Missour
 i State University.
X-ALT-DESC;FMTTYPE=text/html:&lt;html&gt;&lt;head&gt;&lt;title&gt;&lt;/title&gt;&lt;/head&gt;&lt;body&gt;&lt;p&gt;Jo
 in Student Affairs in wishing Rhonda Lesley (director of the Counseling C
 enter) well as she retires from higher education and Missouri State Unive
 rsity.&lt;/p&gt;&lt;/body&gt;&lt;/html&gt;
DTSTART;TZID=America/Chicago:20230331T150000
DTEND;TZID=America/Chicago:20230331T170000
SEQUENCE:0
URL:
CATEGORIES:Public,Alumni,Current Students,Faculty,Staff
END:VEVENT
END:VCALENDAR