BEGIN:VCALENDAR
VERSION:2.0
METHOD:PUBLISH
PRODID:-//Missouri State University/Calendar of Events//EN
CALSCALE:GREGORIAN
X-WR-TIMEZONE:America/Chicago
BEGIN:VTIMEZONE
TZID:America/Chicago
BEGIN:DAYLIGHT
TZOFFSETFROM:-0600
TZOFFSETTO:-0500
DTSTART:20070311T020000
RRULE:FREQ=YEARLY;BYMONTH=3;BYDAY=2SU
TZNAME:CDT
END:DAYLIGHT
BEGIN:STANDARD
TZOFFSETFROM:-0500
TZOFFSETTO:-0600
DTSTART:20071104T020000
RRULE:FREQ=YEARLY;BYMONTH=11;BYDAY=1SU
TZNAME:CST
END:STANDARD
END:VTIMEZONE
BEGIN:VEVENT
UID:22315478-2ab4-4e73-9ff9-91b401161078.227867@calendar.missouristate.edu
CREATED:20230315T144059Z
LAST-MODIFIED:20230315T144059Z
LOCATION:Plaster Student Union\, Robert W. Grand Ballroom
SUMMARY:Ekklesia Drag Trivia Night
DESCRIPTION:Join us for a wonderful night of trivia and drag performances.
  Our host is Queen Katriana Dupree and she has invited friends to come sh
 are their talents with us between trivia sets.\n\n\nBring your wallet to 
 participate in 50/50 raffles\, a silent auction\, and most importantly\, 
 to tip our performers well! \n\n\n\nIndividual Entry: $15 (students $5)\n
 \n\nTable of six: $75 (all student table $25)\n\nReserve your spot.
X-ALT-DESC;FMTTYPE=text/html:&lt;html&gt;&lt;head&gt;&lt;title&gt;&lt;/title&gt;&lt;/head&gt;&lt;body&gt;&lt;p&gt;Jo
 in us for a wonderful night of trivia and drag performances. Our host is 
 Queen Katriana Dupree and she has invited friends to come share their tal
 ents with us between trivia sets.&lt;/p&gt;\n&lt;p&gt;Bring your wallet to participat
 e in 50/50 raffles\, a silent auction\, and most importantly\, to tip our
  performers well!&amp;nbsp\;&lt;/p&gt;\n&lt;ul&gt;\n&lt;li&gt;Individual Entry: $15 (students $
 5)&lt;/li&gt;\n&lt;/ul&gt;\n&lt;ul&gt;\n&lt;li&gt;Table of six: $75 (all student table $25)&lt;/li&gt;\
 n&lt;/ul&gt;\n&lt;p&gt;&lt;a href="https://tinyurl.com/drag-trivia"&gt;Reserve your spot&lt;/a
 &gt;.&lt;/p&gt;&lt;/body&gt;&lt;/html&gt;
DTSTART;TZID=America/Chicago:20230324T190000
DTEND;TZID=America/Chicago:20230324T210000
SEQUENCE:0
URL:https://form-renderer-app.donorperfect.io/give/united-ministries-in-hi
 gher-education/drag-trivia-registration
CATEGORIES:Public,Alumni,Current Students,Faculty,Future Students,Staff
END:VEVENT
END:VCALENDAR