BEGIN:VCALENDAR
VERSION:2.0
METHOD:PUBLISH
PRODID:-//Missouri State University/Calendar of Events//EN
CALSCALE:GREGORIAN
X-WR-TIMEZONE:America/Chicago
BEGIN:VTIMEZONE
TZID:America/Chicago
BEGIN:DAYLIGHT
TZOFFSETFROM:-0600
TZOFFSETTO:-0500
DTSTART:20070311T020000
RRULE:FREQ=YEARLY;BYMONTH=3;BYDAY=2SU
TZNAME:CDT
END:DAYLIGHT
BEGIN:STANDARD
TZOFFSETFROM:-0500
TZOFFSETTO:-0600
DTSTART:20071104T020000
RRULE:FREQ=YEARLY;BYMONTH=11;BYDAY=1SU
TZNAME:CST
END:STANDARD
END:VTIMEZONE
BEGIN:VEVENT
UID:2047924f-58a6-4af6-bfeb-6234cc4abb2f.227873@calendar.missouristate.edu
CREATED:20230331T152458Z
LAST-MODIFIED:20230331T152458Z
LOCATION:
SUMMARY:Public Affairs Mission: What Does It Mean? Can you Relate? Virtual
  Workshop
DESCRIPTION:Explore the history of the university's public affairs mission
  and how to become a more engaged Citizen Bear by modeling the three pill
 ars of the public affairs mission. As the university is educating student
 s to become global scholars\, it is imperative that employees can communi
 cate\, interconnect and promote the meaning of public affairs to students
  and the community.\n\n\nFacilitator: Mary Ann Wood\n\n\nRegister in My L
 earning Connection.
X-ALT-DESC;FMTTYPE=text/html:&lt;html&gt;&lt;head&gt;&lt;title&gt;&lt;/title&gt;&lt;/head&gt;&lt;body&gt;&lt;p&gt;Ex
 plore the history of the university's public affairs mission and how to b
 ecome a more engaged Citizen Bear by modeling the three pillars of the pu
 blic affairs mission. As the university is educating students to become g
 lobal scholars\, it is imperative that employees can communicate\, interc
 onnect and promote the meaning of public affairs to students and the comm
 unity.&lt;/p&gt;\n&lt;p&gt;Facilitator: Mary Ann Wood&lt;/p&gt;\n&lt;p&gt;Register in &lt;a href="ht
 tps://experience.elluciancloud.com/msu/"&gt;My Learning Connection&lt;/a&gt;.&lt;/p&gt;&lt;
 /body&gt;&lt;/html&gt;
DTSTART;TZID=America/Chicago:20230418T143000
DTEND;TZID=America/Chicago:20230418T153000
SEQUENCE:1
URL:https://blogs.missouristate.edu/human/2023/03/16/lead-yourself-courses
 -this-april/
CATEGORIES:Faculty,Staff
END:VEVENT
END:VCALENDAR