BEGIN:VCALENDAR
VERSION:2.0
METHOD:PUBLISH
PRODID:-//Missouri State University/Calendar of Events//EN
CALSCALE:GREGORIAN
X-WR-TIMEZONE:America/Chicago
BEGIN:VTIMEZONE
TZID:America/Chicago
BEGIN:DAYLIGHT
TZOFFSETFROM:-0600
TZOFFSETTO:-0500
DTSTART:20070311T020000
RRULE:FREQ=YEARLY;BYMONTH=3;BYDAY=2SU
TZNAME:CDT
END:DAYLIGHT
BEGIN:STANDARD
TZOFFSETFROM:-0500
TZOFFSETTO:-0600
DTSTART:20071104T020000
RRULE:FREQ=YEARLY;BYMONTH=11;BYDAY=1SU
TZNAME:CST
END:STANDARD
END:VTIMEZONE
BEGIN:VEVENT
UID:842edd7d-0cdc-4dff-9264-1a54aefbc686.227897@calendar.missouristate.edu
CREATED:20230320T202405Z
LAST-MODIFIED:20230320T202405Z
LOCATION:Plaster Student Union\, Robert W.
SUMMARY:Missouri State Birthday Party
DESCRIPTION:March 17 marked the 118th anniversary of the founding of Misso
 uri State University! Join the MSU Student Alumni Association as we celeb
 rate Missouri State’s 118th birthday on March 22.\n\n\nStop by Plaster St
 udent Union between 11 a.m.-2 p.m. to celebrate with us. We'll have:\n\n\
 n\nBirthday treats\nTrivia\, games and activities\nGiveaways\nA photo boo
 th\nPerformance from the MSU Pride Band
X-ALT-DESC;FMTTYPE=text/html:&lt;html&gt;&lt;head&gt;&lt;title&gt;&lt;/title&gt;&lt;/head&gt;&lt;body&gt;&lt;p&gt;Ma
 rch 17 marked the 118th anniversary of the founding of Missouri State Uni
 versity! Join the MSU Student Alumni Association as we celebrate Missouri
  State’s 118th birthday on March 22.&lt;/p&gt;\n&lt;p&gt;Stop by Plaster Student Unio
 n between 11 a.m.-2 p.m. to celebrate with us. We'll have:&lt;/p&gt;\n&lt;ul&gt;\n&lt;li
 &gt;Birthday treats&lt;/li&gt;\n&lt;li&gt;Trivia\, games&amp;nbsp\;and activities&lt;/li&gt;\n&lt;li&gt;
 Giveaways&lt;/li&gt;\n&lt;li&gt;A photo booth&lt;/li&gt;\n&lt;li&gt;Performance from the MSU Prid
 e Band&lt;/li&gt;\n&lt;/ul&gt;&lt;/body&gt;&lt;/html&gt;
DTSTART;TZID=America/Chicago:20230322T110000
DTEND;TZID=America/Chicago:20230322T140000
SEQUENCE:1
URL:119401.jpg
CATEGORIES:Alumni,Current Students,Faculty,Staff
END:VEVENT
END:VCALENDAR