BEGIN:VCALENDAR
VERSION:2.0
METHOD:PUBLISH
PRODID:-//Missouri State University/Calendar of Events//EN
CALSCALE:GREGORIAN
X-WR-TIMEZONE:America/Chicago
BEGIN:VTIMEZONE
TZID:America/Chicago
BEGIN:DAYLIGHT
TZOFFSETFROM:-0600
TZOFFSETTO:-0500
DTSTART:20070311T020000
RRULE:FREQ=YEARLY;BYMONTH=3;BYDAY=2SU
TZNAME:CDT
END:DAYLIGHT
BEGIN:STANDARD
TZOFFSETFROM:-0500
TZOFFSETTO:-0600
DTSTART:20071104T020000
RRULE:FREQ=YEARLY;BYMONTH=11;BYDAY=1SU
TZNAME:CST
END:STANDARD
END:VTIMEZONE
BEGIN:VEVENT
UID:9030f6c6-aaba-4b26-8a95-c9a995d287f5.227899@calendar.missouristate.edu
CREATED:20230320T212601Z
LAST-MODIFIED:20230320T212601Z
LOCATION:Kentwood Hall 212
SUMMARY:2023 Annual Honors College Banquet 
DESCRIPTION:The Honors College invites students\, faculty\, and staff memb
 ers to celebrate student success and the graduating Class of 2023. 
X-ALT-DESC;FMTTYPE=text/html:&lt;html&gt;&lt;head&gt;&lt;title&gt;&lt;/title&gt;&lt;/head&gt;&lt;body&gt;&lt;p&gt;Th
 e Honors College invites students\, faculty\, and staff members to celebr
 ate student success and the graduating Class of 2023.&amp;nbsp\;&lt;/p&gt;&lt;/body&gt;&lt;/
 html&gt;
DTSTART;TZID=America/Chicago:20230428T160000
DTEND;TZID=America/Chicago:20230428T180000
SEQUENCE:0
URL:
CATEGORIES:Current Students,Faculty,Staff
END:VEVENT
END:VCALENDAR