BEGIN:VCALENDAR
VERSION:2.0
METHOD:PUBLISH
PRODID:-//Missouri State University/Calendar of Events//EN
CALSCALE:GREGORIAN
X-WR-TIMEZONE:America/Chicago
BEGIN:VTIMEZONE
TZID:America/Chicago
BEGIN:DAYLIGHT
TZOFFSETFROM:-0600
TZOFFSETTO:-0500
DTSTART:20070311T020000
RRULE:FREQ=YEARLY;BYMONTH=3;BYDAY=2SU
TZNAME:CDT
END:DAYLIGHT
BEGIN:STANDARD
TZOFFSETFROM:-0500
TZOFFSETTO:-0600
DTSTART:20071104T020000
RRULE:FREQ=YEARLY;BYMONTH=11;BYDAY=1SU
TZNAME:CST
END:STANDARD
END:VTIMEZONE
BEGIN:VEVENT
UID:6d1038f6-0e1c-47e7-8f24-05bf7a04a326.227900@calendar.missouristate.edu
CREATED:20230325T223633Z
LAST-MODIFIED:20230325T223633Z
LOCATION:Brick City 1 312
SUMMARY:Exhibit Talk with Judy Tedford Deaton
DESCRIPTION:Join us for an exhibit talk with visiting curator Judy Tedford
  Deaton. She will speak about works in the TEX-US: Five Encounters from t
 he Lone Star State exhibition at the Carolla Arts Exhibition Center\, as 
 well as her experience as a curator at The Grace Museum in Abilene\, TX.
X-ALT-DESC;FMTTYPE=text/html:&lt;html&gt;&lt;head&gt;&lt;title&gt;&lt;/title&gt;&lt;/head&gt;&lt;body&gt;&lt;p&gt;Jo
 in us for an exhibit talk with visiting curator Judy Tedford Deaton. She 
 will speak about works in the TEX-US: Five Encounters from the Lone Star 
 State exhibition at the Carolla Arts Exhibition Center\, as well as her e
 xperience as a curator at The Grace Museum in &lt;span&gt;Abilene\, TX. &lt;br&gt;&lt;/s
 pan&gt;&lt;/p&gt;&lt;/body&gt;&lt;/html&gt;
DTSTART;TZID=America/Chicago:20230405T170000
DTEND;TZID=America/Chicago:20230405T180000
SEQUENCE:0
URL:https://galleries.missouristate.edu/Carolla/exhibition-schedule.htm
CATEGORIES:Public,Alumni,Current Students,Faculty,Future Students,Staff
END:VEVENT
END:VCALENDAR