BEGIN:VCALENDAR
VERSION:2.0
METHOD:PUBLISH
PRODID:-//Missouri State University/Calendar of Events//EN
CALSCALE:GREGORIAN
X-WR-TIMEZONE:America/Chicago
BEGIN:VTIMEZONE
TZID:America/Chicago
BEGIN:DAYLIGHT
TZOFFSETFROM:-0600
TZOFFSETTO:-0500
DTSTART:20070311T020000
RRULE:FREQ=YEARLY;BYMONTH=3;BYDAY=2SU
TZNAME:CDT
END:DAYLIGHT
BEGIN:STANDARD
TZOFFSETFROM:-0500
TZOFFSETTO:-0600
DTSTART:20071104T020000
RRULE:FREQ=YEARLY;BYMONTH=11;BYDAY=1SU
TZNAME:CST
END:STANDARD
END:VTIMEZONE
BEGIN:VEVENT
UID:e3e691f5-7437-4f88-9ef4-b34500b13d0c.227901@calendar.missouristate.edu
CREATED:20230321T201118Z
LAST-MODIFIED:20230321T201118Z
LOCATION:Meyer Library\, Duane G. 120
SUMMARY:Advising Support Workshop
DESCRIPTION:Presenters: Katie Tucker\, administrative specialist III\, Aca
 demic Advising &amp; Transfer Center\n\n\nBlanca Mallonee\, executive assista
 nt III\, Student Success\n\n\nDarren Wienberg\, academic advisor\, Academ
 ic Advising &amp; Transfer Center\n\n\nDr. Kelly Wood\, associate provost for
  Student Success (opening remarks)\n\n\nThis two-hour workshop is tailore
 d to meet the needs of front-line personnel who are often the initial con
 tact for students that have advising needs and/or part of the process of 
 assigning advisors for departments. The presenters will discuss topics th
 at will lessen student run-around and offer students more advising consis
 tency among departments\, e.g.\, navigating the new My Missouri State\, c
 hanging advisors\, understanding departmental advising reports and campus
  resources.\n\n\nRegistration is required.
X-ALT-DESC;FMTTYPE=text/html:&lt;html&gt;&lt;head&gt;&lt;title&gt;&lt;/title&gt;&lt;/head&gt;&lt;body&gt;&lt;p&gt;&lt;s
 trong&gt;Presenters: Katie Tucker\, administrative specialist III\, Academic
  Advising &amp;amp\; Transfer Center&lt;/strong&gt;&lt;/p&gt;\n&lt;p&gt;&lt;strong&gt;Blanca Mallonee
 \, executive assistant III\, Student Success&lt;/strong&gt;&lt;/p&gt;\n&lt;p&gt;&lt;strong&gt;Dar
 ren Wienberg\, academic advisor\, Academic Advising &amp;amp\; Transfer Cente
 r&lt;/strong&gt;&lt;/p&gt;\n&lt;p&gt;&lt;strong&gt;Dr. Kelly Wood\, associate provost for Student
  Success (opening remarks)&lt;/strong&gt;&lt;/p&gt;\n&lt;p&gt;This two-hour workshop is tai
 lored to meet the needs of front-line personnel who are often the initial
  contact for students that have advising needs and/or part of the process
  of assigning advisors for departments. The presenters will discuss topic
 s that will lessen student run-around and offer students more advising co
 nsistency among departments\, e.g.\, navigating the new My Missouri State
 \, changing advisors\, understanding departmental advising reports and ca
 mpus resources.&lt;/p&gt;\n&lt;p&gt;&lt;strong&gt;Registration is required.&lt;/strong&gt;&lt;/p&gt;\n&lt;
 p&gt;&lt;/p&gt;&lt;/body&gt;&lt;/html&gt;
DTSTART;TZID=America/Chicago:20230330T090000
DTEND;TZID=America/Chicago:20230330T110000
SEQUENCE:0
URL:119405.png
CATEGORIES:Staff
END:VEVENT
END:VCALENDAR