BEGIN:VCALENDAR
VERSION:2.0
METHOD:PUBLISH
PRODID:-//Missouri State University/Calendar of Events//EN
CALSCALE:GREGORIAN
X-WR-TIMEZONE:America/Chicago
BEGIN:VTIMEZONE
TZID:America/Chicago
BEGIN:DAYLIGHT
TZOFFSETFROM:-0600
TZOFFSETTO:-0500
DTSTART:20070311T020000
RRULE:FREQ=YEARLY;BYMONTH=3;BYDAY=2SU
TZNAME:CDT
END:DAYLIGHT
BEGIN:STANDARD
TZOFFSETFROM:-0500
TZOFFSETTO:-0600
DTSTART:20071104T020000
RRULE:FREQ=YEARLY;BYMONTH=11;BYDAY=1SU
TZNAME:CST
END:STANDARD
END:VTIMEZONE
BEGIN:VEVENT
UID:342f1172-8004-4b66-8ef0-edd2bf512d77.227922@calendar.missouristate.edu
CREATED:20230421T142225Z
LAST-MODIFIED:20230421T142225Z
LOCATION:Plaster Student Union\, Robert W. Ballroom
SUMMARY:MCHHS Student Research Symposium
DESCRIPTION:Join us at the 27th Annual McQueary College of Health and Huma
 n Services Student Research Symposium!\n\n\nUndergraduate and graduate st
 udents will present their scholary work and answer your questions. Refres
 hments will be served.
X-ALT-DESC;FMTTYPE=text/html:&lt;html&gt;&lt;head&gt;&lt;title&gt;&lt;/title&gt;&lt;/head&gt;&lt;body&gt;&lt;p&gt;Jo
 in us at the &lt;strong&gt;27th Annual McQueary College of Health and Human Ser
 vices Student Research Symposium&lt;/strong&gt;!&lt;/p&gt;\n&lt;p&gt;Undergraduate and grad
 uate students will present their scholary work and answer your questions.
  Refreshments will be served.&lt;/p&gt;&lt;/body&gt;&lt;/html&gt;
DTSTART;TZID=America/Chicago:20230427T150000
DTEND;TZID=America/Chicago:20230427T170000
SEQUENCE:0
URL:https://mchhs.missouristate.edu/mchhs-student-research.htm
CATEGORIES:Public,Alumni,Current Students,Faculty,Future Students,Staff
END:VEVENT
END:VCALENDAR