BEGIN:VCALENDAR
VERSION:2.0
METHOD:PUBLISH
PRODID:-//Missouri State University/Calendar of Events//EN
CALSCALE:GREGORIAN
X-WR-TIMEZONE:America/Chicago
BEGIN:VTIMEZONE
TZID:America/Chicago
BEGIN:DAYLIGHT
TZOFFSETFROM:-0600
TZOFFSETTO:-0500
DTSTART:20070311T020000
RRULE:FREQ=YEARLY;BYMONTH=3;BYDAY=2SU
TZNAME:CDT
END:DAYLIGHT
BEGIN:STANDARD
TZOFFSETFROM:-0500
TZOFFSETTO:-0600
DTSTART:20071104T020000
RRULE:FREQ=YEARLY;BYMONTH=11;BYDAY=1SU
TZNAME:CST
END:STANDARD
END:VTIMEZONE
BEGIN:VEVENT
UID:4f8aabba-1d21-413c-a571-8393b5721033.227931@calendar.missouristate.edu
CREATED:20230328T224052Z
LAST-MODIFIED:20230328T224052Z
LOCATION:Strong Hall 204
SUMMARY:Brown Bag Lecture: Ukranian Armed Forces - Current Conditions and 
 What Comes Next
DESCRIPTION:Lecture and discussion with Olena Verbytska\, advisor to the p
 resident of Ukraine\; ombudwoman for Protecting the Rights of Ukranian De
 fenders\, and with Vera Mironova\, PhD in Political Science\, University 
 of Maryland's Counterintelligence Specialist currently based in Ukraine.
X-ALT-DESC;FMTTYPE=text/html:&lt;html&gt;&lt;head&gt;&lt;title&gt;&lt;/title&gt;&lt;/head&gt;&lt;body&gt;&lt;p&gt;Le
 cture and discussion with Olena Verbytska\, advisor to the president of U
 kraine\; ombudwoman for Protecting the Rights of Ukranian Defenders\, and
  with Vera Mironova\, PhD in Political Science\, University of Maryland's
  Counterintelligence Specialist currently based in Ukraine.&lt;/p&gt;&lt;/body&gt;&lt;/h
 tml&gt;
DTSTART;TZID=America/Chicago:20230331T120000
DTEND;TZID=America/Chicago:20230331T130000
SEQUENCE:0
URL:
CATEGORIES:Public,Alumni,Current Students,Faculty,Future Students,Staff
END:VEVENT
END:VCALENDAR