BEGIN:VCALENDAR
VERSION:2.0
METHOD:PUBLISH
PRODID:-//Missouri State University/Calendar of Events//EN
CALSCALE:GREGORIAN
X-WR-TIMEZONE:America/Chicago
BEGIN:VTIMEZONE
TZID:America/Chicago
BEGIN:DAYLIGHT
TZOFFSETFROM:-0600
TZOFFSETTO:-0500
DTSTART:20070311T020000
RRULE:FREQ=YEARLY;BYMONTH=3;BYDAY=2SU
TZNAME:CDT
END:DAYLIGHT
BEGIN:STANDARD
TZOFFSETFROM:-0500
TZOFFSETTO:-0600
DTSTART:20071104T020000
RRULE:FREQ=YEARLY;BYMONTH=11;BYDAY=1SU
TZNAME:CST
END:STANDARD
END:VTIMEZONE
BEGIN:VEVENT
UID:4036ca49-ba53-4cc7-b34e-14b8d2db388c.227932@calendar.missouristate.edu
CREATED:20230328T224743Z
LAST-MODIFIED:20230328T224743Z
LOCATION:
SUMMARY:Public Affairs Talks! Living the Mission
DESCRIPTION:Discover ways to incorporate public affairs in work and life!\
 n\n\n\n\nThis installment of Public Affairs Talks! highlights faculty and
  staff recipients from the Board of Governors’ Excellence in Public Affai
 rs Award and the Excellence in Community Engagement Awards.  Each present
 er will share how they are making their Missouri Statement through their 
 campus work and volunteerism in the community.\n\n\n\n\n\nApril 11\, 2023
 \n4-5 p.m.\nLive Zoom webinar - link accessed on event's webpage\n\nModer
 ated by Dr. Keri Franklin\, associate provost of Public Affairs and Asses
 sment\n\n\nPresenters include:\n\n\n\nDr. Ashlea Cardin\, associate profe
 ssor\, occupational therapy\nJeff Grevillius\, soft goods manager\, MSU B
 ookstore\nDr. Diana Piccolo\, professor\, childhood education and family 
 studies\nKaren Scott\, administrative assistant II\, childhood education 
 and family studies\nDr. Stephen Spates\, interime department head\, commu
 nication\nDr. Shurita Thomas-Tate\, associate professor\, communication s
 ciences and disorders\nNiki Yost\, administrative specialist III\, office
  of dual credit
X-ALT-DESC;FMTTYPE=text/html:&lt;html&gt;&lt;head&gt;&lt;title&gt;&lt;/title&gt;&lt;/head&gt;&lt;body&gt;&lt;p&gt;&lt;s
 trong&gt;Discover ways to incorporate public affairs in work and life!&lt;/stro
 ng&gt;&lt;/p&gt;\n&lt;header&gt;\n&lt;div&gt;&lt;/div&gt;\n&lt;p&gt;This installment of&amp;nbsp\;&lt;a href="htt
 ps://publicaffairs.missouristate.edu/public-affairs-talks.htm"&gt;Public Aff
 airs Talks!&lt;/a&gt;&amp;nbsp\;highlights faculty and staff recipients from the Bo
 ard of Governors’ Excellence in Public Affairs Award and the Excellence i
 n Community Engagement Awards.&amp;nbsp\; Each presenter will share how they 
 are making their Missouri Statement through their campus work and volunte
 erism in the community.&lt;/p&gt;\n&lt;/header&gt;\n&lt;div&gt;\n&lt;ul&gt;\n&lt;li&gt;April 11\, 2023&lt;
 /li&gt;\n&lt;li&gt;4-5 p.m.&lt;/li&gt;\n&lt;li&gt;Live Zoom webinar - link accessed on event's
  webpage&lt;/li&gt;\n&lt;/ul&gt;\n&lt;p&gt;&lt;strong&gt;Moderated by Dr. Keri Franklin\, associa
 te provost of Public Affairs and Assessment&lt;/strong&gt;&lt;/p&gt;\n&lt;p&gt;&lt;strong&gt;Pres
 enters include:&lt;/strong&gt;&lt;/p&gt;\n&lt;ul&gt;\n&lt;li&gt;Dr. Ashlea Cardin\, associate pro
 fessor\, occupational therapy&lt;/li&gt;\n&lt;li&gt;Jeff Grevillius\, soft goods mana
 ger\, MSU Bookstore&lt;/li&gt;\n&lt;li&gt;Dr. Diana Piccolo\, professor\, childhood e
 ducation and family studies&lt;/li&gt;\n&lt;li&gt;Karen Scott\, administrative assist
 ant II\, childhood education and family studies&lt;/li&gt;\n&lt;li&gt;Dr. Stephen Spa
 tes\, interime department head\, communication&lt;/li&gt;\n&lt;li&gt;Dr. Shurita Thom
 as-Tate\, associate professor\, communication sciences and disorders&lt;/li&gt;
 \n&lt;li&gt;Niki Yost\, administrative specialist III\, office of dual credit&lt;/
 li&gt;\n&lt;/ul&gt;\n&lt;/div&gt;&lt;/body&gt;&lt;/html&gt;
DTSTART;TZID=America/Chicago:20230411T160000
DTEND;TZID=America/Chicago:20230411T170000
SEQUENCE:1
URL:https://publicaffairs.missouristate.edu/public-affairs-talks.htm
CATEGORIES:Public,Alumni,Current Students,Faculty,Future Students,Staff
END:VEVENT
END:VCALENDAR