BEGIN:VCALENDAR
VERSION:2.0
METHOD:PUBLISH
PRODID:-//Missouri State University/Calendar of Events//EN
CALSCALE:GREGORIAN
X-WR-TIMEZONE:America/Chicago
BEGIN:VTIMEZONE
TZID:America/Chicago
BEGIN:DAYLIGHT
TZOFFSETFROM:-0600
TZOFFSETTO:-0500
DTSTART:20070311T020000
RRULE:FREQ=YEARLY;BYMONTH=3;BYDAY=2SU
TZNAME:CDT
END:DAYLIGHT
BEGIN:STANDARD
TZOFFSETFROM:-0500
TZOFFSETTO:-0600
DTSTART:20071104T020000
RRULE:FREQ=YEARLY;BYMONTH=11;BYDAY=1SU
TZNAME:CST
END:STANDARD
END:VTIMEZONE
BEGIN:VEVENT
UID:13c252a2-52d8-4d1b-bad3-323c096a2c31.227933@calendar.missouristate.edu
CREATED:20230329T133315Z
LAST-MODIFIED:20230329T133315Z
LOCATION:Plaster Student Union\, Robert W. North Mall
SUMMARY:SAC Presents: SAC Games
DESCRIPTION:Bring your friends to win a competition to win a prize! Teams 
 of 6 encouraged. Free Subway!
X-ALT-DESC;FMTTYPE=text/html:&lt;html&gt;&lt;head&gt;&lt;title&gt;&lt;/title&gt;&lt;/head&gt;&lt;body&gt;&lt;p&gt;Br
 ing your friends to win a competition to win a prize! Teams of 6 encourag
 ed. Free Subway!&lt;/p&gt;&lt;/body&gt;&lt;/html&gt;
DTSTART;TZID=America/Chicago:20230330T190000
DTEND;TZID=America/Chicago:20230330T220000
SEQUENCE:0
URL:119414.jpg
CATEGORIES:Current Students,Faculty,Staff
END:VEVENT
END:VCALENDAR