BEGIN:VCALENDAR
VERSION:2.0
METHOD:PUBLISH
PRODID:-//Missouri State University/Calendar of Events//EN
CALSCALE:GREGORIAN
X-WR-TIMEZONE:America/Chicago
BEGIN:VTIMEZONE
TZID:America/Chicago
BEGIN:DAYLIGHT
TZOFFSETFROM:-0600
TZOFFSETTO:-0500
DTSTART:20070311T020000
RRULE:FREQ=YEARLY;BYMONTH=3;BYDAY=2SU
TZNAME:CDT
END:DAYLIGHT
BEGIN:STANDARD
TZOFFSETFROM:-0500
TZOFFSETTO:-0600
DTSTART:20071104T020000
RRULE:FREQ=YEARLY;BYMONTH=11;BYDAY=1SU
TZNAME:CST
END:STANDARD
END:VTIMEZONE
BEGIN:VEVENT
UID:46eb7a1c-1170-4c47-9c56-ae6efecb8582.227934@calendar.missouristate.edu
CREATED:20230328T234310Z
LAST-MODIFIED:20230328T234310Z
LOCATION:Roy Blunt Hall 143
SUMMARY:Enigmatic Declines\, 10 Billion Dollars and a Unique Ecosystem: Co
 nservation of the Everglades' Herpetofauna
DESCRIPTION:Biology seminar\n\n\nSpeaker: Hunter Howell\, University of Mi
 ami
X-ALT-DESC;FMTTYPE=text/html:&lt;html&gt;&lt;head&gt;&lt;title&gt;&lt;/title&gt;&lt;/head&gt;&lt;body&gt;&lt;p&gt;Bi
 ology seminar&lt;/p&gt;\n&lt;p&gt;Speaker: Hunter Howell\, University of Miami&lt;/p&gt;&lt;/b
 ody&gt;&lt;/html&gt;
DTSTART;TZID=America/Chicago:20230421T160000
DTEND;TZID=America/Chicago:20230421T170000
SEQUENCE:0
URL:
CATEGORIES:Alumni,Current Students,Faculty,Future Students
END:VEVENT
END:VCALENDAR