BEGIN:VCALENDAR
VERSION:2.0
METHOD:PUBLISH
PRODID:-//Missouri State University/Calendar of Events//EN
CALSCALE:GREGORIAN
X-WR-TIMEZONE:America/Chicago
BEGIN:VTIMEZONE
TZID:America/Chicago
BEGIN:DAYLIGHT
TZOFFSETFROM:-0600
TZOFFSETTO:-0500
DTSTART:20070311T020000
RRULE:FREQ=YEARLY;BYMONTH=3;BYDAY=2SU
TZNAME:CDT
END:DAYLIGHT
BEGIN:STANDARD
TZOFFSETFROM:-0500
TZOFFSETTO:-0600
DTSTART:20071104T020000
RRULE:FREQ=YEARLY;BYMONTH=11;BYDAY=1SU
TZNAME:CST
END:STANDARD
END:VTIMEZONE
BEGIN:VEVENT
UID:53d43881-685f-4bd6-86c7-9830d9534399.227937@calendar.missouristate.edu
CREATED:20230329T210556Z
LAST-MODIFIED:20230329T210556Z
LOCATION:Plaster Student Union\, Robert W. North Mall
SUMMARY:SAC Presents: Bandfest
DESCRIPTION:SAC will be hosting Bandfest and presenting local bands includ
 ing: Daisy Chain\, Deaf Castle\, and Ghost to Ghost.\n\n\nFree live music
  and food!
X-ALT-DESC;FMTTYPE=text/html:&lt;html&gt;&lt;head&gt;&lt;title&gt;&lt;/title&gt;&lt;/head&gt;&lt;body&gt;&lt;p&gt;SA
 C will be hosting Bandfest and presenting local bands including: Daisy Ch
 ain\, Deaf Castle\, and Ghost to Ghost.&lt;/p&gt;\n&lt;p&gt;Free live music and food!
 &lt;/p&gt;&lt;/body&gt;&lt;/html&gt;
DTSTART;TZID=America/Chicago:20230404T190000
DTEND;TZID=America/Chicago:20230404T220000
SEQUENCE:0
URL:
CATEGORIES:Current Students,Faculty,Staff
END:VEVENT
END:VCALENDAR