BEGIN:VCALENDAR
VERSION:2.0
METHOD:PUBLISH
PRODID:-//Missouri State University/Calendar of Events//EN
CALSCALE:GREGORIAN
X-WR-TIMEZONE:America/Chicago
BEGIN:VTIMEZONE
TZID:America/Chicago
BEGIN:DAYLIGHT
TZOFFSETFROM:-0600
TZOFFSETTO:-0500
DTSTART:20070311T020000
RRULE:FREQ=YEARLY;BYMONTH=3;BYDAY=2SU
TZNAME:CDT
END:DAYLIGHT
BEGIN:STANDARD
TZOFFSETFROM:-0500
TZOFFSETTO:-0600
DTSTART:20071104T020000
RRULE:FREQ=YEARLY;BYMONTH=11;BYDAY=1SU
TZNAME:CST
END:STANDARD
END:VTIMEZONE
BEGIN:VEVENT
UID:bffa1934-dd52-4c3c-9afc-61adf7ac99c9.227938@calendar.missouristate.edu
CREATED:20230329T210534Z
LAST-MODIFIED:20230329T210534Z
LOCATION:Plaster Student Union\, Robert W. North Mall
SUMMARY:SAC Presents: Craft Night
DESCRIPTION:Join SAC for a night of crafts!\n\n\nGift card giveaways of $5
 0 to Heirloom Candle Bar and Artistree Pottery!\n\n\nFree cupcakes and mo
 re.
X-ALT-DESC;FMTTYPE=text/html:&lt;html&gt;&lt;head&gt;&lt;title&gt;&lt;/title&gt;&lt;/head&gt;&lt;body&gt;&lt;p&gt;Jo
 in SAC for a night of crafts!&lt;/p&gt;\n&lt;p&gt;Gift card giveaways of $50 to Heirl
 oom Candle Bar and Artistree Pottery!&lt;/p&gt;\n&lt;p&gt;Free cupcakes and more.&lt;/p&gt;
 &lt;/body&gt;&lt;/html&gt;
DTSTART;TZID=America/Chicago:20230413T190000
DTEND;TZID=America/Chicago:20230413T220000
SEQUENCE:0
URL:
CATEGORIES:Current Students,Faculty,Staff
END:VEVENT
END:VCALENDAR