BEGIN:VCALENDAR
VERSION:2.0
METHOD:PUBLISH
PRODID:-//Missouri State University/Calendar of Events//EN
CALSCALE:GREGORIAN
X-WR-TIMEZONE:America/Chicago
BEGIN:VTIMEZONE
TZID:America/Chicago
BEGIN:DAYLIGHT
TZOFFSETFROM:-0600
TZOFFSETTO:-0500
DTSTART:20070311T020000
RRULE:FREQ=YEARLY;BYMONTH=3;BYDAY=2SU
TZNAME:CDT
END:DAYLIGHT
BEGIN:STANDARD
TZOFFSETFROM:-0500
TZOFFSETTO:-0600
DTSTART:20071104T020000
RRULE:FREQ=YEARLY;BYMONTH=11;BYDAY=1SU
TZNAME:CST
END:STANDARD
END:VTIMEZONE
BEGIN:VEVENT
UID:d30955e2-4b3f-4bce-93db-fdede86e6a04.227939@calendar.missouristate.edu
CREATED:20230329T210510Z
LAST-MODIFIED:20230329T210510Z
LOCATION:Plaster Student Union\, Robert W. PSU Theater
SUMMARY:SAC Film: Scott Pilgrim vs The World (2010)
DESCRIPTION:Travel through the decades with SAC! Come to this theme series
  and enter the 2010's\, eat free food\, and enter a prize drawing! 
X-ALT-DESC;FMTTYPE=text/html:&lt;html&gt;&lt;head&gt;&lt;title&gt;&lt;/title&gt;&lt;/head&gt;&lt;body&gt;&lt;p&gt;Tr
 avel through the decades with SAC! Come to this theme series and enter th
 e 2010's\, eat free food\, and&amp;nbsp\;enter a prize drawing!&amp;nbsp\;&lt;/p&gt;&lt;/b
 ody&gt;&lt;/html&gt;
DTSTART;TZID=America/Chicago:20230405T180000
DTEND;TZID=America/Chicago:20230405T210000
SEQUENCE:0
URL:119421.jpg
CATEGORIES:Current Students,Faculty,Staff
END:VEVENT
END:VCALENDAR