BEGIN:VCALENDAR
VERSION:2.0
METHOD:PUBLISH
PRODID:-//Missouri State University/Calendar of Events//EN
CALSCALE:GREGORIAN
X-WR-TIMEZONE:America/Chicago
BEGIN:VTIMEZONE
TZID:America/Chicago
BEGIN:DAYLIGHT
TZOFFSETFROM:-0600
TZOFFSETTO:-0500
DTSTART:20070311T020000
RRULE:FREQ=YEARLY;BYMONTH=3;BYDAY=2SU
TZNAME:CDT
END:DAYLIGHT
BEGIN:STANDARD
TZOFFSETFROM:-0500
TZOFFSETTO:-0600
DTSTART:20071104T020000
RRULE:FREQ=YEARLY;BYMONTH=11;BYDAY=1SU
TZNAME:CST
END:STANDARD
END:VTIMEZONE
BEGIN:VEVENT
UID:0f8d66a0-5c13-4192-8d0b-71b177bf40ac.227941@calendar.missouristate.edu
CREATED:20230329T210441Z
LAST-MODIFIED:20230329T210441Z
LOCATION:Plaster Student Union\, Robert W. North Mall
SUMMARY:SAC Presents: Boomer Scootin' Boogie
DESCRIPTION:Join SAC and the Swing Club for line dancing on the north mall
 ! Free cowboy fries!
X-ALT-DESC;FMTTYPE=text/html:&lt;html&gt;&lt;head&gt;&lt;title&gt;&lt;/title&gt;&lt;/head&gt;&lt;body&gt;&lt;p&gt;Jo
 in SAC and the Swing Club for line dancing on the north mall! Free cowboy
  fries!&lt;/p&gt;&lt;/body&gt;&lt;/html&gt;
DTSTART;TZID=America/Chicago:20230417T190000
DTEND;TZID=America/Chicago:20230417T203000
SEQUENCE:0
URL:119422.jpg
CATEGORIES:Current Students,Faculty,Staff
END:VEVENT
END:VCALENDAR