BEGIN:VCALENDAR
VERSION:2.0
METHOD:PUBLISH
PRODID:-//Missouri State University/Calendar of Events//EN
CALSCALE:GREGORIAN
X-WR-TIMEZONE:America/Chicago
BEGIN:VTIMEZONE
TZID:America/Chicago
BEGIN:DAYLIGHT
TZOFFSETFROM:-0600
TZOFFSETTO:-0500
DTSTART:20070311T020000
RRULE:FREQ=YEARLY;BYMONTH=3;BYDAY=2SU
TZNAME:CDT
END:DAYLIGHT
BEGIN:STANDARD
TZOFFSETFROM:-0500
TZOFFSETTO:-0600
DTSTART:20071104T020000
RRULE:FREQ=YEARLY;BYMONTH=11;BYDAY=1SU
TZNAME:CST
END:STANDARD
END:VTIMEZONE
BEGIN:VEVENT
UID:29951d08-2b87-4f78-b846-48f3e4463021.227944@calendar.missouristate.edu
CREATED:20230406T150219Z
LAST-MODIFIED:20230406T150219Z
LOCATION:John Goodman Amphitheatre
SUMMARY:MSU Jazz Ensemble I in Concert
DESCRIPTION:The MSU Jazz Ensemble I under the direction of Professor Randy
  Hamm will perform a concert in the newly completed John Goodman Amphithe
 atre. This performance will feature The Kansas City Suite\, composed by B
 enny Carter.\n\n\nThere will also be works by Bob Brookmeyer\, Bob Mintze
 r and a special performance of a commissioned piece composed by MSU alum 
 Greg Weis.
X-ALT-DESC;FMTTYPE=text/html:&lt;html&gt;&lt;head&gt;&lt;title&gt;&lt;/title&gt;&lt;/head&gt;&lt;body&gt;&lt;p&gt;Th
 e MSU Jazz Ensemble I under the direction of Professor Randy Hamm will pe
 rform a concert in the newly completed John Goodman Amphitheatre. This pe
 rformance will feature&lt;em&gt; The&lt;/em&gt; &lt;em&gt;Kansas City Suite\,&amp;nbsp\;&lt;/em&gt;co
 mposed by&amp;nbsp\;Benny Carter.&lt;/p&gt;\n&lt;p&gt;There will also be works by Bob Bro
 okmeyer\, Bob Mintzer and a special performance of a commissioned piece c
 omposed by MSU alum Greg Weis.&lt;/p&gt;&lt;/body&gt;&lt;/html&gt;
DTSTART;TZID=America/Chicago:20230420T193000
DTEND;TZID=America/Chicago:20230420T203000
SEQUENCE:0
URL:
CATEGORIES:Public,Alumni,Current Students,Faculty,Future Students,Staff
END:VEVENT
END:VCALENDAR