BEGIN:VCALENDAR
VERSION:2.0
METHOD:PUBLISH
PRODID:-//Missouri State University/Calendar of Events//EN
CALSCALE:GREGORIAN
X-WR-TIMEZONE:America/Chicago
BEGIN:VTIMEZONE
TZID:America/Chicago
BEGIN:DAYLIGHT
TZOFFSETFROM:-0600
TZOFFSETTO:-0500
DTSTART:20070311T020000
RRULE:FREQ=YEARLY;BYMONTH=3;BYDAY=2SU
TZNAME:CDT
END:DAYLIGHT
BEGIN:STANDARD
TZOFFSETFROM:-0500
TZOFFSETTO:-0600
DTSTART:20071104T020000
RRULE:FREQ=YEARLY;BYMONTH=11;BYDAY=1SU
TZNAME:CST
END:STANDARD
END:VTIMEZONE
BEGIN:VEVENT
UID:f60b67d0-36fc-43ed-a976-24d7741522ee.227947@calendar.missouristate.edu
CREATED:20230331T171558Z
LAST-MODIFIED:20230331T171558Z
LOCATION:Plaster Student Union\, Robert W. North Mall
SUMMARY:SAC Presents: Slam Poetry
DESCRIPTION:Enjoy some free pizza\, a prize drawing\, and spoken word for 
 national poetry month. In case of rain\, it will be moved into the PSU Th
 eater
X-ALT-DESC;FMTTYPE=text/html:&lt;html&gt;&lt;head&gt;&lt;title&gt;&lt;/title&gt;&lt;/head&gt;&lt;body&gt;&lt;p&gt;En
 joy some free pizza\, a prize drawing\, and spoken word for national poet
 ry month. In case of rain\, it will be moved into the PSU Theater&lt;/p&gt;&lt;/bo
 dy&gt;&lt;/html&gt;
DTSTART;TZID=America/Chicago:20230418T190000
DTEND;TZID=America/Chicago:20230418T200000
SEQUENCE:0
URL:119428.PNG
CATEGORIES:Current Students,Faculty,Staff
END:VEVENT
END:VCALENDAR