BEGIN:VCALENDAR
VERSION:2.0
METHOD:PUBLISH
PRODID:-//Missouri State University/Calendar of Events//EN
CALSCALE:GREGORIAN
X-WR-TIMEZONE:America/Chicago
BEGIN:VTIMEZONE
TZID:America/Chicago
BEGIN:DAYLIGHT
TZOFFSETFROM:-0600
TZOFFSETTO:-0500
DTSTART:20070311T020000
RRULE:FREQ=YEARLY;BYMONTH=3;BYDAY=2SU
TZNAME:CDT
END:DAYLIGHT
BEGIN:STANDARD
TZOFFSETFROM:-0500
TZOFFSETTO:-0600
DTSTART:20071104T020000
RRULE:FREQ=YEARLY;BYMONTH=11;BYDAY=1SU
TZNAME:CST
END:STANDARD
END:VTIMEZONE
BEGIN:VEVENT
UID:00000000-0000-0000-0000-000000000000.227949@calendar.missouristate.edu
CREATED:20230331T174527Z
LAST-MODIFIED:20230331T174527Z
LOCATION:To Be Determined
SUMMARY:Alumni night at Hammons Field
DESCRIPTION:Alumni night at Hammons Field is April 11\, 2023.  Join alumni
  and fans for a tailgate at Jordan Valley Park starting at 5PM for food a
 nd games.  Cheer on the Bears as they take on the Tigers. 
X-ALT-DESC;FMTTYPE=text/html:&lt;html&gt;&lt;head&gt;&lt;title&gt;&lt;/title&gt;&lt;/head&gt;&lt;body&gt;Alumn
 i night at Hammons Field is April 11\, 2023.&amp;nbsp\; Join alumni and fans 
 for a tailgate at Jordan Valley Park starting at 5PM for food and games.&amp;
 nbsp\; Cheer on the Bears as they take on the Tigers.&amp;nbsp\;&lt;/body&gt;&lt;/html&gt;
DTSTART;TZID=America/Chicago:20230411T170000
DTEND;TZID=America/Chicago:20230411T190000
SEQUENCE:0
URL:https://missouristate.imodules.com?sid=1691&amp;gid=2&amp;pgid=3107&amp;cid=5432&amp;e
 cid=5432&amp;ciid=18064&amp;crid=0
CATEGORIES:Public,Alumni,Parents and Family,Visitors
END:VEVENT
END:VCALENDAR