BEGIN:VCALENDAR
VERSION:2.0
METHOD:PUBLISH
PRODID:-//Missouri State University/Calendar of Events//EN
CALSCALE:GREGORIAN
X-WR-TIMEZONE:America/Chicago
BEGIN:VTIMEZONE
TZID:America/Chicago
BEGIN:DAYLIGHT
TZOFFSETFROM:-0600
TZOFFSETTO:-0500
DTSTART:20070311T020000
RRULE:FREQ=YEARLY;BYMONTH=3;BYDAY=2SU
TZNAME:CDT
END:DAYLIGHT
BEGIN:STANDARD
TZOFFSETFROM:-0500
TZOFFSETTO:-0600
DTSTART:20071104T020000
RRULE:FREQ=YEARLY;BYMONTH=11;BYDAY=1SU
TZNAME:CST
END:STANDARD
END:VTIMEZONE
BEGIN:VEVENT
UID:f0fc6190-d13e-4c1d-ad70-7de4fa3c2507.227950@calendar.missouristate.edu
CREATED:20230403T194439Z
LAST-MODIFIED:20230403T194439Z
LOCATION:Plaster Student Union\, Robert W. MRC 101
SUMMARY:Tuesday Talk: Women Owned Businesses
DESCRIPTION:Women who are students at Missouri State will be showing off t
 heir own businesses that they created and run! Join us!
X-ALT-DESC;FMTTYPE=text/html:&lt;html&gt;&lt;head&gt;&lt;title&gt;&lt;/title&gt;&lt;/head&gt;&lt;body&gt;&lt;p&gt;Wo
 men who are students at Missouri State will be showing off their own busi
 nesses that they created and run! Join us!&lt;/p&gt;&lt;/body&gt;&lt;/html&gt;
DTSTART;TZID=America/Chicago:20230404T130000
DTEND;TZID=America/Chicago:20230404T150000
SEQUENCE:0
URL:
CATEGORIES:Public,Current Students,Faculty,Staff
END:VEVENT
END:VCALENDAR