BEGIN:VCALENDAR
VERSION:2.0
METHOD:PUBLISH
PRODID:-//Missouri State University/Calendar of Events//EN
CALSCALE:GREGORIAN
X-WR-TIMEZONE:America/Chicago
BEGIN:VTIMEZONE
TZID:America/Chicago
BEGIN:DAYLIGHT
TZOFFSETFROM:-0600
TZOFFSETTO:-0500
DTSTART:20070311T020000
RRULE:FREQ=YEARLY;BYMONTH=3;BYDAY=2SU
TZNAME:CDT
END:DAYLIGHT
BEGIN:STANDARD
TZOFFSETFROM:-0500
TZOFFSETTO:-0600
DTSTART:20071104T020000
RRULE:FREQ=YEARLY;BYMONTH=11;BYDAY=1SU
TZNAME:CST
END:STANDARD
END:VTIMEZONE
BEGIN:VEVENT
UID:89835514-19a5-4b5a-bdd2-544d787f537d.227952@calendar.missouristate.edu
CREATED:20230403T194503Z
LAST-MODIFIED:20230403T194503Z
LOCATION:Plaster Student Union\, Robert W. MRC 101
SUMMARY:Gardening International
DESCRIPTION:April 14th is National Gardening Day which was created to insp
 ire and encourage new gardeners to start digging! Join us as we learn mor
 e!
X-ALT-DESC;FMTTYPE=text/html:&lt;html&gt;&lt;head&gt;&lt;title&gt;&lt;/title&gt;&lt;/head&gt;&lt;body&gt;&lt;p&gt;Ap
 ril 14th is National Gardening Day which was created to inspire and encou
 rage new gardeners to start digging! Join us as we learn more!&lt;/p&gt;&lt;/body&gt;
 &lt;/html&gt;
DTSTART;TZID=America/Chicago:20230414T120000
DTEND;TZID=America/Chicago:20230414T130000
SEQUENCE:0
URL:119433.jpg
CATEGORIES:Current Students,Faculty,Staff
END:VEVENT
END:VCALENDAR