BEGIN:VCALENDAR
VERSION:2.0
METHOD:PUBLISH
PRODID:-//Missouri State University/Calendar of Events//EN
CALSCALE:GREGORIAN
X-WR-TIMEZONE:America/Chicago
BEGIN:VTIMEZONE
TZID:America/Chicago
BEGIN:DAYLIGHT
TZOFFSETFROM:-0600
TZOFFSETTO:-0500
DTSTART:20070311T020000
RRULE:FREQ=YEARLY;BYMONTH=3;BYDAY=2SU
TZNAME:CDT
END:DAYLIGHT
BEGIN:STANDARD
TZOFFSETFROM:-0500
TZOFFSETTO:-0600
DTSTART:20071104T020000
RRULE:FREQ=YEARLY;BYMONTH=11;BYDAY=1SU
TZNAME:CST
END:STANDARD
END:VTIMEZONE
BEGIN:VEVENT
UID:08d807b3-3d66-409a-b37a-64f3141bf68d.227957@calendar.missouristate.edu
CREATED:20230403T194956Z
LAST-MODIFIED:20230403T194956Z
LOCATION:Plaster Student Union\, Robert W. MRC 101
SUMMARY:Lesbian Day of Visibility: Queer Sex Ed
DESCRIPTION:Lesbian Day of Visibility is April 26! Not only are we celebra
 ting the day\, but we also have Aids Projects of the Ozarks (APO) educati
 ng us on queer sex ed. Stop by and learn more!
X-ALT-DESC;FMTTYPE=text/html:&lt;html&gt;&lt;head&gt;&lt;title&gt;&lt;/title&gt;&lt;/head&gt;&lt;body&gt;&lt;p&gt;Le
 sbian Day of Visibility is April 26! Not only are we celebrating the day\
 , but we also have Aids Projects of the Ozarks (APO) educating us on quee
 r sex ed. Stop by and learn more!&lt;/p&gt;&lt;/body&gt;&lt;/html&gt;
DTSTART;TZID=America/Chicago:20230426T130000
DTEND;TZID=America/Chicago:20230426T153000
SEQUENCE:0
URL:
CATEGORIES:Public,Current Students,Faculty,Staff
END:VEVENT
END:VCALENDAR