BEGIN:VCALENDAR
VERSION:2.0
METHOD:PUBLISH
PRODID:-//Missouri State University/Calendar of Events//EN
CALSCALE:GREGORIAN
X-WR-TIMEZONE:America/Chicago
BEGIN:VTIMEZONE
TZID:America/Chicago
BEGIN:DAYLIGHT
TZOFFSETFROM:-0600
TZOFFSETTO:-0500
DTSTART:20070311T020000
RRULE:FREQ=YEARLY;BYMONTH=3;BYDAY=2SU
TZNAME:CDT
END:DAYLIGHT
BEGIN:STANDARD
TZOFFSETFROM:-0500
TZOFFSETTO:-0600
DTSTART:20071104T020000
RRULE:FREQ=YEARLY;BYMONTH=11;BYDAY=1SU
TZNAME:CST
END:STANDARD
END:VTIMEZONE
BEGIN:VEVENT
UID:166cc291-5f26-417d-9196-1882942ca388.227958@calendar.missouristate.edu
CREATED:20230403T194908Z
LAST-MODIFIED:20230403T194908Z
LOCATION:Plaster Student Union\, Robert W. MRC 101
SUMMARY:Calligraphy
DESCRIPTION:Calligraphy is the art of beautiful handwriting. Want to pract
 ice and learn how to do calligraphy? Perfect. Join us and learn how!
X-ALT-DESC;FMTTYPE=text/html:&lt;html&gt;&lt;head&gt;&lt;title&gt;&lt;/title&gt;&lt;/head&gt;&lt;body&gt;&lt;p&gt;Ca
 lligraphy is the art of beautiful handwriting. Want to practice and learn
  how to do calligraphy? Perfect. Join us and learn how!&lt;/p&gt;&lt;/body&gt;&lt;/html&gt;
DTSTART;TZID=America/Chicago:20230501T170000
DTEND;TZID=America/Chicago:20230501T180000
SEQUENCE:0
URL:119439.jpg
CATEGORIES:Public,Current Students,Faculty,Staff
END:VEVENT
END:VCALENDAR