BEGIN:VCALENDAR
VERSION:2.0
METHOD:PUBLISH
PRODID:-//Missouri State University/Calendar of Events//EN
CALSCALE:GREGORIAN
X-WR-TIMEZONE:America/Chicago
BEGIN:VTIMEZONE
TZID:America/Chicago
BEGIN:DAYLIGHT
TZOFFSETFROM:-0600
TZOFFSETTO:-0500
DTSTART:20070311T020000
RRULE:FREQ=YEARLY;BYMONTH=3;BYDAY=2SU
TZNAME:CDT
END:DAYLIGHT
BEGIN:STANDARD
TZOFFSETFROM:-0500
TZOFFSETTO:-0600
DTSTART:20071104T020000
RRULE:FREQ=YEARLY;BYMONTH=11;BYDAY=1SU
TZNAME:CST
END:STANDARD
END:VTIMEZONE
BEGIN:VEVENT
UID:cf242767-e6fe-468e-a0bf-3d43b02bf58b.227959@calendar.missouristate.edu
CREATED:20230403T194806Z
LAST-MODIFIED:20230403T194806Z
LOCATION:Plaster Student Union\, Robert W. MRC 101
SUMMARY:APIDA Panel: Understanding Asian Experiences in the U.S.
DESCRIPTION:APIDA is an abbreviation that stands for Asian Pacific Islande
 r Desi American. This panel will center on and highlight the experiences 
 of those who identity as APIDA and the experiences they have had emigrati
 ng to the United States or being born in the United States\, and their ch
 allenges\, successes and more.
X-ALT-DESC;FMTTYPE=text/html:&lt;html&gt;&lt;head&gt;&lt;title&gt;&lt;/title&gt;&lt;/head&gt;&lt;body&gt;&lt;p&gt;AP
 IDA is an abbreviation that stands for Asian Pacific Islander Desi Americ
 an. This panel will center on and highlight the experiences of those who 
 identity as APIDA and the experiences they have had emigrating to the Uni
 ted States or being born in the United States\, and their challenges\, su
 ccesses and more.&lt;/p&gt;\n&lt;p&gt;&lt;/p&gt;&lt;/body&gt;&lt;/html&gt;
DTSTART;TZID=America/Chicago:20230504T173000
DTEND;TZID=America/Chicago:20230504T190000
SEQUENCE:0
URL:119440.jpg
CATEGORIES:Public,Current Students,Faculty,Staff
END:VEVENT
END:VCALENDAR