BEGIN:VCALENDAR
VERSION:2.0
METHOD:PUBLISH
PRODID:-//Missouri State University/Calendar of Events//EN
CALSCALE:GREGORIAN
X-WR-TIMEZONE:America/Chicago
BEGIN:VTIMEZONE
TZID:America/Chicago
BEGIN:DAYLIGHT
TZOFFSETFROM:-0600
TZOFFSETTO:-0500
DTSTART:20070311T020000
RRULE:FREQ=YEARLY;BYMONTH=3;BYDAY=2SU
TZNAME:CDT
END:DAYLIGHT
BEGIN:STANDARD
TZOFFSETFROM:-0500
TZOFFSETTO:-0600
DTSTART:20071104T020000
RRULE:FREQ=YEARLY;BYMONTH=11;BYDAY=1SU
TZNAME:CST
END:STANDARD
END:VTIMEZONE
BEGIN:VEVENT
UID:b9125bf6-e62b-4067-96c2-078e7a7c1644.227961@calendar.missouristate.edu
CREATED:20230403T194621Z
LAST-MODIFIED:20230403T194621Z
LOCATION:Plaster Student Union\, Robert W. PSU Union Club
SUMMARY:Dumpling Creation Demo
DESCRIPTION:Let's make some dumplings together! Never made one before? Per
 fect\, let's learn how together.
X-ALT-DESC;FMTTYPE=text/html:&lt;html&gt;&lt;head&gt;&lt;title&gt;&lt;/title&gt;&lt;/head&gt;&lt;body&gt;&lt;p&gt;Le
 t's make some dumplings together! Never made one before? Perfect\, let's 
 learn how together.&lt;/p&gt;&lt;/body&gt;&lt;/html&gt;
DTSTART;TZID=America/Chicago:20230509T180000
DTEND;TZID=America/Chicago:20230509T193000
SEQUENCE:0
URL:119442.jpg
CATEGORIES:Current Students,Faculty,Staff
END:VEVENT
END:VCALENDAR