BEGIN:VCALENDAR
VERSION:2.0
METHOD:PUBLISH
PRODID:-//Missouri State University/Calendar of Events//EN
CALSCALE:GREGORIAN
X-WR-TIMEZONE:America/Chicago
BEGIN:VTIMEZONE
TZID:America/Chicago
BEGIN:DAYLIGHT
TZOFFSETFROM:-0600
TZOFFSETTO:-0500
DTSTART:20070311T020000
RRULE:FREQ=YEARLY;BYMONTH=3;BYDAY=2SU
TZNAME:CDT
END:DAYLIGHT
BEGIN:STANDARD
TZOFFSETFROM:-0500
TZOFFSETTO:-0600
DTSTART:20071104T020000
RRULE:FREQ=YEARLY;BYMONTH=11;BYDAY=1SU
TZNAME:CST
END:STANDARD
END:VTIMEZONE
BEGIN:VEVENT
UID:f19be95f-2f93-4306-8f8c-e8989e1a3469.227966@calendar.missouristate.edu
CREATED:20230406T152544Z
LAST-MODIFIED:20230406T152544Z
LOCATION:Plaster Student Union\, Robert W. Ballroom East
SUMMARY:Retirement Reception to Honor Dean Victor Matthews
DESCRIPTION:Please join us as we celebrate Dean Victor Matthews' career an
 d wish him well. \n\n\nHe began teaching in religious studies at (then) S
 MSU in 1984.  He moved to the dean's office in 2008 and became dean of th
 e College of Humanities and Public Affairs in 2009.
X-ALT-DESC;FMTTYPE=text/html:&lt;html&gt;&lt;head&gt;&lt;title&gt;&lt;/title&gt;&lt;/head&gt;&lt;body&gt;&lt;p&gt;Pl
 ease join us as we celebrate Dean Victor Matthews' career and wish him we
 ll.&amp;nbsp\;&lt;/p&gt;\n&lt;p&gt;He began teaching in religious studies at (then) SMSU 
 in 1984.&amp;nbsp\; He moved to the dean's office in 2008 and became dean of 
 the College of Humanities and Public Affairs in 2009.&lt;/p&gt;&lt;/body&gt;&lt;/html&gt;
DTSTART;TZID=America/Chicago:20230502T140000
DTEND;TZID=America/Chicago:20230502T160000
SEQUENCE:0
URL:119446.jpg
CATEGORIES:Public,Alumni,Current Students,Faculty,Staff
END:VEVENT
END:VCALENDAR