BEGIN:VCALENDAR
VERSION:2.0
METHOD:PUBLISH
PRODID:-//Missouri State University/Calendar of Events//EN
CALSCALE:GREGORIAN
X-WR-TIMEZONE:America/Chicago
BEGIN:VTIMEZONE
TZID:America/Chicago
BEGIN:DAYLIGHT
TZOFFSETFROM:-0600
TZOFFSETTO:-0500
DTSTART:20070311T020000
RRULE:FREQ=YEARLY;BYMONTH=3;BYDAY=2SU
TZNAME:CDT
END:DAYLIGHT
BEGIN:STANDARD
TZOFFSETFROM:-0500
TZOFFSETTO:-0600
DTSTART:20071104T020000
RRULE:FREQ=YEARLY;BYMONTH=11;BYDAY=1SU
TZNAME:CST
END:STANDARD
END:VTIMEZONE
BEGIN:VEVENT
UID:57b7d2f5-9c85-406a-aac8-7aeebdb1e2fc.227968@calendar.missouristate.edu
CREATED:20230406T233325Z
LAST-MODIFIED:20230406T233325Z
LOCATION:Plaster Student Union\, Robert W. 400 (Union Club)
SUMMARY:English Week: Reading by Buki Papillon\, Maya Angelou Prize Winner
DESCRIPTION:Buki Papillon was born in Nigeria. After studying law at Hull 
 University in the U.K.\, she completed an MFA in Creative Writing at Lesl
 ey University. Her debut novel\, "An Ordinary Wonder\," has received rave
  reviews and mentions in "The New York Times\," "Ms. Magazine\," "Essence
 " and "Cosmopolitan."\n\n\nThe novel is also a Massachusetts Book Awards 
 Fiction Honors recipient and a Ferro-Grumley Literary Award finalist.
X-ALT-DESC;FMTTYPE=text/html:&lt;html&gt;&lt;head&gt;&lt;title&gt;&lt;/title&gt;&lt;/head&gt;&lt;body&gt;&lt;p&gt;&lt;s
 pan&gt;Buki Papillon was born in Nigeria. After studying law at Hull Univers
 ity in the U.K.\, she completed an MFA in Creative Writing at Lesley Univ
 ersity. Her debut novel\, "An Ordinary Wonder\," has received rave review
 s and mentions in "The New York Times\," "Ms. Magazine\," "Essence" and "
 Cosmopolitan."&lt;/span&gt;&lt;/p&gt;\n&lt;p&gt;&lt;span&gt;The novel is also a Massachusetts Boo
 k Awards Fiction Honors recipient and a Ferro-Grumley Literary Award fina
 list. &lt;/span&gt;&lt;/p&gt;\n&lt;p&gt;&lt;/p&gt;&lt;/body&gt;&lt;/html&gt;
DTSTART;TZID=America/Chicago:20230414T183000
DTEND;TZID=America/Chicago:20230414T203000
SEQUENCE:0
URL:119448.jpg
CATEGORIES:Public,Alumni,Current Students,Faculty,Future Students,Staff
END:VEVENT
END:VCALENDAR