BEGIN:VCALENDAR
VERSION:2.0
METHOD:PUBLISH
PRODID:-//Missouri State University/Calendar of Events//EN
CALSCALE:GREGORIAN
X-WR-TIMEZONE:America/Chicago
BEGIN:VTIMEZONE
TZID:America/Chicago
BEGIN:DAYLIGHT
TZOFFSETFROM:-0600
TZOFFSETTO:-0500
DTSTART:20070311T020000
RRULE:FREQ=YEARLY;BYMONTH=3;BYDAY=2SU
TZNAME:CDT
END:DAYLIGHT
BEGIN:STANDARD
TZOFFSETFROM:-0500
TZOFFSETTO:-0600
DTSTART:20071104T020000
RRULE:FREQ=YEARLY;BYMONTH=11;BYDAY=1SU
TZNAME:CST
END:STANDARD
END:VTIMEZONE
BEGIN:VEVENT
UID:80867c91-4539-4a35-9b5e-04a4dd99d0ae.227969@calendar.missouristate.edu
CREATED:20230406T233813Z
LAST-MODIFIED:20230406T233813Z
LOCATION:Meyer Library\, Duane G. 302 (Ozarks Room)
SUMMARY:English Week: Panel Discussion of On Robert Wallace\, Orbit of Met
 er and the Wallace Collection
DESCRIPTION:In honor of the publication of "The Orbit of Meter\," the pane
 l will feature a discussion of the book and its author.\n\n\nA reception 
 and tour of the "Wallace Collection" housed in MSU's Special Collections 
 and Archives will follow. The panel will feature remarks by Christine Wal
 lace\, who will speak of the author and the book's genesis\, Distinguishe
 d Professor Jim Baumlin\, co-editor of the book\, and Tracie Gieselman Fr
 ance\, archivist.
X-ALT-DESC;FMTTYPE=text/html:&lt;html&gt;&lt;head&gt;&lt;title&gt;&lt;/title&gt;&lt;/head&gt;&lt;body&gt;&lt;p&gt;In
  honor of the publication of "The Orbit of Meter\," the panel will featur
 e a discussion of the book and its author.&lt;/p&gt;\n&lt;p&gt;A reception and tour o
 f the "Wallace Collection" housed in MSU's Special Collections and Archiv
 es will follow. The panel will feature remarks by Christine Wallace\, who
  will speak of the author and the book's genesis\, Distinguished Professo
 r Jim Baumlin\, co-editor of the book\, and Tracie Gieselman France\, arc
 hivist.&lt;/p&gt;&lt;/body&gt;&lt;/html&gt;
DTSTART;TZID=America/Chicago:20230417T150000
DTEND;TZID=America/Chicago:20230417T160000
SEQUENCE:0
URL:
CATEGORIES:Public,Alumni,Current Students,Faculty,Staff
END:VEVENT
END:VCALENDAR