BEGIN:VCALENDAR
VERSION:2.0
METHOD:PUBLISH
PRODID:-//Missouri State University/Calendar of Events//EN
CALSCALE:GREGORIAN
X-WR-TIMEZONE:America/Chicago
BEGIN:VTIMEZONE
TZID:America/Chicago
BEGIN:DAYLIGHT
TZOFFSETFROM:-0600
TZOFFSETTO:-0500
DTSTART:20070311T020000
RRULE:FREQ=YEARLY;BYMONTH=3;BYDAY=2SU
TZNAME:CDT
END:DAYLIGHT
BEGIN:STANDARD
TZOFFSETFROM:-0500
TZOFFSETTO:-0600
DTSTART:20071104T020000
RRULE:FREQ=YEARLY;BYMONTH=11;BYDAY=1SU
TZNAME:CST
END:STANDARD
END:VTIMEZONE
BEGIN:VEVENT
UID:f71c345c-db36-4de0-986a-1484b0fd45f9.227970@calendar.missouristate.edu
CREATED:20230405T164241Z
LAST-MODIFIED:20230405T164241Z
LOCATION:Siceluff Hall 2nd Floor
SUMMARY:English Week: Book Sale for Books 2 Keep
DESCRIPTION:A variety of books--biography\, fiction\, poetry\, young adult
 \, etc.--donated by Department of English faculty and students are availa
 ble. All proceeds will be donated to Books 2 Keep which sponsors every st
 udent at Weller Elementary's spring book fair so that each will receive t
 wo books of their choosing.
X-ALT-DESC;FMTTYPE=text/html:&lt;html&gt;&lt;head&gt;&lt;title&gt;&lt;/title&gt;&lt;/head&gt;&lt;body&gt;&lt;p&gt;A 
 variety of books--biography\, fiction\, poetry\, young adult\, etc.--dona
 ted by Department of English faculty and students are available. All proc
 eeds will be donated to Books 2 Keep which sponsors every student at Well
 er Elementary's spring book fair so that each will receive two books of t
 heir choosing.&lt;/p&gt;&lt;/body&gt;&lt;/html&gt;
DTSTART;TZID=America/Chicago:20230417T100000
DTEND;TZID=America/Chicago:20230417T140000
SEQUENCE:0
URL:119450.tif
CATEGORIES:Current Students
END:VEVENT
END:VCALENDAR