BEGIN:VCALENDAR
VERSION:2.0
METHOD:PUBLISH
PRODID:-//Missouri State University/Calendar of Events//EN
CALSCALE:GREGORIAN
X-WR-TIMEZONE:America/Chicago
BEGIN:VTIMEZONE
TZID:America/Chicago
BEGIN:DAYLIGHT
TZOFFSETFROM:-0600
TZOFFSETTO:-0500
DTSTART:20070311T020000
RRULE:FREQ=YEARLY;BYMONTH=3;BYDAY=2SU
TZNAME:CDT
END:DAYLIGHT
BEGIN:STANDARD
TZOFFSETFROM:-0500
TZOFFSETTO:-0600
DTSTART:20071104T020000
RRULE:FREQ=YEARLY;BYMONTH=11;BYDAY=1SU
TZNAME:CST
END:STANDARD
END:VTIMEZONE
BEGIN:VEVENT
UID:7ef55b8f-010e-4773-acb7-8fb4b10856f1.227972@calendar.missouristate.edu
CREATED:20230409T235927Z
LAST-MODIFIED:20230409T235927Z
LOCATION:Glass Hall\, David D. 486
SUMMARY:English Week: Student Workplace Writing Conference
DESCRIPTION:The Workplace Writing Forum is a student organization that spo
 nsors informative programs for students to learn more about the practice 
 of writing and designing content for functional uses. Students can learn 
 more about publishing information for a variety of fields\, such as techn
 ological\, medical and legal fields. Each year\, the Workplace Writing Fo
 rum sponsors a conference for students interested in learning more about 
 professional writing.\n\n\nMorning:\n\n\n9:15: "What TPW is\, getting the
  job and negotiating the salary."\n\n\n10:25: Alumni panel - TPW professi
 onals share information about their current jobs and how their educationa
 l experiences at MSU prepared them.\n\n\n11:30 Nick Altrup\, 417 Marketin
 g\, "Future-Proofing Your Career: Adapting Skills for Success in an AI-dr
 iven World."\n\n\nAfternoon:\n\n\n1:30: "Is that Ethical? How Things Have
  Changed and How They Are Still the Same." Panel discussion with Drs. Sam
  Dragga\, Amy Hodges\, Leslie Seawright.\n\n\n2:45: Sam Mathews\, Deloitt
 e &amp; Touche\, discusses her work experiences.
X-ALT-DESC;FMTTYPE=text/html:&lt;html&gt;&lt;head&gt;&lt;title&gt;&lt;/title&gt;&lt;/head&gt;&lt;body&gt;&lt;p&gt;Th
 e Workplace Writing Forum is a student organization that sponsors informa
 tive programs for students to learn more about the practice of writing an
 d designing content for functional uses. Students can learn more about pu
 blishing information for a variety of fields\, such as technological\, me
 dical and legal fields. Each year\, the Workplace Writing Forum sponsors 
 a conference for students interested in learning more about professional 
 writing.&lt;/p&gt;\n&lt;p&gt;&lt;em&gt;Morning:&lt;/em&gt;&lt;/p&gt;\n&lt;p&gt;9:15: "What TPW is\, getting t
 he job and negotiating the salary."&lt;/p&gt;\n&lt;p&gt;10:25: Alumni panel - TPW pro
 fessionals share information about their current jobs and how their educa
 tional experiences at MSU prepared them.&lt;/p&gt;\n&lt;p&gt;11:30 Nick Altrup\, 417 
 Marketing\, "Future-Proofing Your Career: Adapting Skills for Success in 
 an AI-driven World."&lt;/p&gt;\n&lt;p&gt;&lt;em&gt;Afternoon:&lt;/em&gt;&lt;/p&gt;\n&lt;p&gt;1:30: "Is that E
 thical? How Things Have Changed and How They Are Still the Same." Panel d
 iscussion with Drs. Sam Dragga\, Amy Hodges\, Leslie Seawright.&lt;/p&gt;\n&lt;p&gt;2
 :45: Sam Mathews\, Deloitte &amp;amp\; Touche\, discusses her work experience
 s.&lt;/p&gt;\n&lt;p&gt;&lt;/p&gt;&lt;/body&gt;&lt;/html&gt;
DTSTART;TZID=America/Chicago:20230419T083000
DTEND;TZID=America/Chicago:20230419T153000
SEQUENCE:0
URL:
CATEGORIES:Public,Alumni,Current Students,Faculty,Future Students,Staff
END:VEVENT
END:VCALENDAR