BEGIN:VCALENDAR
VERSION:2.0
METHOD:PUBLISH
PRODID:-//Missouri State University/Calendar of Events//EN
CALSCALE:GREGORIAN
X-WR-TIMEZONE:America/Chicago
BEGIN:VTIMEZONE
TZID:America/Chicago
BEGIN:DAYLIGHT
TZOFFSETFROM:-0600
TZOFFSETTO:-0500
DTSTART:20070311T020000
RRULE:FREQ=YEARLY;BYMONTH=3;BYDAY=2SU
TZNAME:CDT
END:DAYLIGHT
BEGIN:STANDARD
TZOFFSETFROM:-0500
TZOFFSETTO:-0600
DTSTART:20071104T020000
RRULE:FREQ=YEARLY;BYMONTH=11;BYDAY=1SU
TZNAME:CST
END:STANDARD
END:VTIMEZONE
BEGIN:VEVENT
UID:53c95b7b-7a7e-4b8b-8320-1205bfa553ce.227973@calendar.missouristate.edu
CREATED:20230406T225703Z
LAST-MODIFIED:20230406T225703Z
LOCATION:Baker Observatory
SUMMARY:Public Observing Night - April 14\, 2023
DESCRIPTION:Public Observing Night will take place 8:30-11 p.m. April 14.\
 n\n\nFor details\, directions\, weather updates and alternative dates\, v
 isit our website or social media pages (Facebook MSUPAMS2\, Twitter/ PAMS
 atMSU or Instagram/MSUPAMS2).\n\n\n*Public Observing Night will be resche
 duled to the following Saturday only if the event is canceled due to weat
 her. Please check our website or social media pages the day of in case of
  cancellation.
X-ALT-DESC;FMTTYPE=text/html:&lt;html&gt;&lt;head&gt;&lt;title&gt;&lt;/title&gt;&lt;/head&gt;&lt;body&gt;&lt;p&gt;&lt;a
  href="https://physics.missouristate.edu/public-observing-night.htm"&gt;Publ
 ic Observing Night&lt;/a&gt; will take place 8:30-11 p.m. April 14.&lt;/p&gt;\n&lt;p&gt;For
  details\, directions\, weather updates and alternative dates\, visit our
 &amp;nbsp\;&lt;a href="https://physics.missouristate.edu/public-observing-night.
 htm"&gt;website&lt;/a&gt; or social media pages (Facebook MSUPAMS2\, Twitter/ PAMS
 atMSU or Instagram/MSUPAMS2).&lt;/p&gt;\n&lt;p&gt;*Public Observing Night will be res
 cheduled to the following Saturday only if the event is canceled due to w
 eather. Please check our website or social media pages the day of in case
  of cancellation.&lt;/p&gt;&lt;/body&gt;&lt;/html&gt;
DTSTART;TZID=America/Chicago:20230414T203000
DTEND;TZID=America/Chicago:20230414T230000
SEQUENCE:0
URL:https://physics.missouristate.edu/public-observing-night.htm
CATEGORIES:Public,Alumni,Current Students,Faculty,Future Students,Staff
END:VEVENT
END:VCALENDAR