BEGIN:VCALENDAR
VERSION:2.0
METHOD:PUBLISH
PRODID:-//Missouri State University/Calendar of Events//EN
CALSCALE:GREGORIAN
X-WR-TIMEZONE:America/Chicago
BEGIN:VTIMEZONE
TZID:America/Chicago
BEGIN:DAYLIGHT
TZOFFSETFROM:-0600
TZOFFSETTO:-0500
DTSTART:20070311T020000
RRULE:FREQ=YEARLY;BYMONTH=3;BYDAY=2SU
TZNAME:CDT
END:DAYLIGHT
BEGIN:STANDARD
TZOFFSETFROM:-0500
TZOFFSETTO:-0600
DTSTART:20071104T020000
RRULE:FREQ=YEARLY;BYMONTH=11;BYDAY=1SU
TZNAME:CST
END:STANDARD
END:VTIMEZONE
BEGIN:VEVENT
UID:15c0fafb-105f-4923-9427-1ee6a0ba5753.227986@calendar.missouristate.edu
CREATED:20230411T003118Z
LAST-MODIFIED:20230411T003118Z
LOCATION:Glass Hall\, David D. 102
SUMMARY:The Producer's Perspective with Dean McFlicker
DESCRIPTION:Dean McFlicker\, former SVP of promotional programming at NBCU
 niversal\, will present in Glass Hall Room 102 on April 27 from 4-5 p.m. 
 \n\n\nMcFlicker’s presentation\, “The Producer’s Perspective” demonstrate
 s how techniques from the entertainment industry can be applied to any si
 tuation and yield great results. \n\n\nMcFlicker is a top leadership spea
 ker and marketing expert with a prolific background in the entertainment 
 industry. He has launched hit TV shows\, including “This Is Us\,” “The Vo
 ice\,” “America’s Got Talent” and all of NBC’s live musicals.
X-ALT-DESC;FMTTYPE=text/html:&lt;html&gt;&lt;head&gt;&lt;title&gt;&lt;/title&gt;&lt;/head&gt;&lt;body&gt;&lt;p&gt;&lt;a
  href="https://www.deanmcflicker.com/" target="_blank" rel="nofollow noop
 ener"&gt;Dean McFlicker&lt;/a&gt;\, former SVP of promotional programming at NBCUn
 iversal\, will&amp;nbsp\;present&amp;nbsp\;in Glass Hall Room 102 on April 27 fro
 m 4-5 p.m.&amp;nbsp\;&lt;/p&gt;\n&lt;p&gt;McFlicker’s presentation\, “The Producer’s Pers
 pective” demonstrates how techniques from the entertainment industry can 
 be applied to any situation and yield great results.&amp;nbsp\;&lt;/p&gt;\n&lt;p&gt;McFli
 cker is a top leadership speaker and marketing expert with a prolific bac
 kground in the entertainment industry. He has launched hit TV shows\, inc
 luding “This Is Us\,” “The Voice\,” “America’s Got Talent” and all of NBC
 ’s live musicals.&lt;/p&gt;&lt;/body&gt;&lt;/html&gt;
DTSTART;TZID=America/Chicago:20230427T160000
DTEND;TZID=America/Chicago:20230427T170000
SEQUENCE:0
URL:119461.jpg
CATEGORIES:Alumni,Current Students,Faculty,Staff
END:VEVENT
END:VCALENDAR