BEGIN:VCALENDAR
VERSION:2.0
METHOD:PUBLISH
PRODID:-//Missouri State University/Calendar of Events//EN
CALSCALE:GREGORIAN
X-WR-TIMEZONE:America/Chicago
BEGIN:VTIMEZONE
TZID:America/Chicago
BEGIN:DAYLIGHT
TZOFFSETFROM:-0600
TZOFFSETTO:-0500
DTSTART:20070311T020000
RRULE:FREQ=YEARLY;BYMONTH=3;BYDAY=2SU
TZNAME:CDT
END:DAYLIGHT
BEGIN:STANDARD
TZOFFSETFROM:-0500
TZOFFSETTO:-0600
DTSTART:20071104T020000
RRULE:FREQ=YEARLY;BYMONTH=11;BYDAY=1SU
TZNAME:CST
END:STANDARD
END:VTIMEZONE
BEGIN:VEVENT
UID:ed1caca3-4c8c-4759-bf20-f31ed6700372.227988@calendar.missouristate.edu
CREATED:20230411T202613Z
LAST-MODIFIED:20230411T202613Z
LOCATION:Plaster Stadium\, Robert W.
SUMMARY:Spring Football Game and Fan Fest
DESCRIPTION:Spring football game and fan fest!\n\n\n\n\n\n1:00pm - Tailgat
 e\, games and autographs\n\n\n4:00pm - Kickoff 
X-ALT-DESC;FMTTYPE=text/html:&lt;html&gt;&lt;head&gt;&lt;title&gt;&lt;/title&gt;&lt;/head&gt;&lt;body&gt;&lt;p&gt;Sp
 ring football game and fan fest!&lt;/p&gt;\n&lt;p&gt;&lt;/p&gt;\n&lt;p&gt;1:00pm - Tailgate\, gam
 es and autographs&lt;/p&gt;\n&lt;p&gt;4:00pm - Kickoff&amp;nbsp\;&lt;/p&gt;&lt;/body&gt;&lt;/html&gt;
DTSTART;TZID=America/Chicago:20230415T130000
DTEND;TZID=America/Chicago:20230415T200000
SEQUENCE:1
URL:https://calendar.missouristate.edu/viewevent.aspx?eventid=119463&amp;occur
 renceid=227988
CATEGORIES:Public,Alumni,Faculty,Staff
END:VEVENT
END:VCALENDAR